BEGIN:VCALENDAR
VERSION:2.0
PRODID:-// - ECPv6.15.20//NONSGML v1.0//EN
CALSCALE:GREGORIAN
METHOD:PUBLISH
X-ORIGINAL-URL:https://srce-slovenije.si
X-WR-CALDESC:Dogodki za 
REFRESH-INTERVAL;VALUE=DURATION:PT1H
X-Robots-Tag:noindex
X-PUBLISHED-TTL:PT1H
BEGIN:VTIMEZONE
TZID:Europe/Ljubljana
BEGIN:DAYLIGHT
TZOFFSETFROM:+0100
TZOFFSETTO:+0200
TZNAME:CEST
DTSTART:20240331T010000
END:DAYLIGHT
BEGIN:STANDARD
TZOFFSETFROM:+0200
TZOFFSETTO:+0100
TZNAME:CET
DTSTART:20241027T010000
END:STANDARD
BEGIN:DAYLIGHT
TZOFFSETFROM:+0100
TZOFFSETTO:+0200
TZNAME:CEST
DTSTART:20250330T010000
END:DAYLIGHT
BEGIN:STANDARD
TZOFFSETFROM:+0200
TZOFFSETTO:+0100
TZNAME:CET
DTSTART:20251026T010000
END:STANDARD
BEGIN:DAYLIGHT
TZOFFSETFROM:+0100
TZOFFSETTO:+0200
TZNAME:CEST
DTSTART:20260329T010000
END:DAYLIGHT
BEGIN:STANDARD
TZOFFSETFROM:+0200
TZOFFSETTO:+0100
TZNAME:CET
DTSTART:20261025T010000
END:STANDARD
END:VTIMEZONE
BEGIN:VEVENT
DTSTART;TZID=Europe/Ljubljana:20250824T100000
DTEND;TZID=Europe/Ljubljana:20250824T120000
DTSTAMP:20260422T034557
CREATED:20250723T112032Z
LAST-MODIFIED:20250723T112032Z
UID:31790-1756029600-1756036800@srce-slovenije.si
SUMMARY:Zaplešite s plesno šolo Fredi
DESCRIPTION:Vabimo vas v Arboretum Volčji Potok\, kjer bomo organizirali ples v objemu narave. Od 10.00 do 12.00 bodo potekale plesne delavnice za mladino\, od 17.00 do 19.00 pa za odrasle. \nPROGRAM \n\nPlesna delavnica\nSolo plesna animacija\nOsvežilna pijača\nMehanska glasba za vse okuse\n\nPlesni dogodek vodi Plesna šola Fredi. Udeležba je brezplačna\, plača se vstopnino v park. Sezonske vstopnice za vstop v park veljajo. Zberemo se v Spodnjem rozariju. Dogodek bo v primeru slabega vremena odpovedan. Obvezna prijava na plesnasola.fredi@gmail.com. \nGremo plesat!
URL:https://srce-slovenije.si/dogodek/zaplesite-s-plesno-solo-fredi-2/
LOCATION:Arboretum Volčji Potok\, Volčji Potok 3\, 1235 Radomlje
CATEGORIES:Dogodek,Ples in vadba
ATTACH;FMTTYPE=image/jpeg:https://srce-slovenije.si/wp-content/uploads/2025/07/Plesna-sola-Fredi-1.jpg
ORGANIZER;CN="Arboretum Vol%C4%8Dji Potok":MAILTO:prireditve@arboretum.si
END:VEVENT
BEGIN:VEVENT
DTSTART;TZID=Europe/Ljubljana:20250824T170000
DTEND;TZID=Europe/Ljubljana:20250824T190000
DTSTAMP:20260422T034557
CREATED:20250723T112221Z
LAST-MODIFIED:20250723T112221Z
UID:31794-1756054800-1756062000@srce-slovenije.si
SUMMARY:Zaplešite s Plesno šolo Fredi
DESCRIPTION:Vabimo vas v Arboretum Volčji Potok\, kjer bomo organizirali ples v objemu narave. Od 10.00 do 12.00 bodo potekale plesne delavnice za mladino\, od 17.00 do 19.00 pa za odrasle. \nPROGRAM \n\nPlesna delavnica\nSolo plesna animacija\nOsvežilna pijača\nMehanska glasba za vse okuse
URL:https://srce-slovenije.si/dogodek/zaplesite-s-plesno-solo-fredi-3/
LOCATION:Arboretum Volčji Potok\, Volčji Potok 3\, 1235 Radomlje
CATEGORIES:Dogodek,Dogodek na prostem,Ples in vadba
ATTACH;FMTTYPE=image/jpeg:https://srce-slovenije.si/wp-content/uploads/2025/07/Plesna-sola-Fredi-1.jpg
ORGANIZER;CN="Arboretum Vol%C4%8Dji Potok":MAILTO:prireditve@arboretum.si
END:VEVENT
END:VCALENDAR