BEGIN:VCALENDAR
VERSION:2.0
PRODID:-// - ECPv6.15.20//NONSGML v1.0//EN
CALSCALE:GREGORIAN
METHOD:PUBLISH
X-ORIGINAL-URL:https://srce-slovenije.si
X-WR-CALDESC:Dogodki za 
REFRESH-INTERVAL;VALUE=DURATION:PT1H
X-Robots-Tag:noindex
X-PUBLISHED-TTL:PT1H
BEGIN:VTIMEZONE
TZID:Europe/Ljubljana
BEGIN:DAYLIGHT
TZOFFSETFROM:+0100
TZOFFSETTO:+0200
TZNAME:CEST
DTSTART:20230326T010000
END:DAYLIGHT
BEGIN:STANDARD
TZOFFSETFROM:+0200
TZOFFSETTO:+0100
TZNAME:CET
DTSTART:20231029T010000
END:STANDARD
BEGIN:DAYLIGHT
TZOFFSETFROM:+0100
TZOFFSETTO:+0200
TZNAME:CEST
DTSTART:20240331T010000
END:DAYLIGHT
BEGIN:STANDARD
TZOFFSETFROM:+0200
TZOFFSETTO:+0100
TZNAME:CET
DTSTART:20241027T010000
END:STANDARD
BEGIN:DAYLIGHT
TZOFFSETFROM:+0100
TZOFFSETTO:+0200
TZNAME:CEST
DTSTART:20250330T010000
END:DAYLIGHT
BEGIN:STANDARD
TZOFFSETFROM:+0200
TZOFFSETTO:+0100
TZNAME:CET
DTSTART:20251026T010000
END:STANDARD
BEGIN:DAYLIGHT
TZOFFSETFROM:+0100
TZOFFSETTO:+0200
TZNAME:CEST
DTSTART:20260329T010000
END:DAYLIGHT
BEGIN:STANDARD
TZOFFSETFROM:+0200
TZOFFSETTO:+0100
TZNAME:CET
DTSTART:20261025T010000
END:STANDARD
END:VTIMEZONE
BEGIN:VEVENT
DTSTART;TZID=Europe/Ljubljana:20251226T180000
DTEND;TZID=Europe/Ljubljana:20251226T200000
DTSTAMP:20260423T093815
CREATED:20251130T075053Z
LAST-MODIFIED:20251201T070605Z
UID:33372-1766772000-1766779200@srce-slovenije.si
SUMMARY:Novoletni koncert in obeležitev praznika samostojnosti in enotnosti
DESCRIPTION:
URL:https://srce-slovenije.si/dogodek/novoletni-koncert-in-obelezitev-praznika-samostojnosti-in-enotnosti/
LOCATION:Brdo Pri Lukovici\, Lukovica\, 1225\, Slovenija
CATEGORIES:Gledališče,Praznični dogodek,Predstava
END:VEVENT
BEGIN:VEVENT
DTSTART;TZID=Europe/Ljubljana:20251221T150000
DTEND;TZID=Europe/Ljubljana:20251221T180000
DTSTAMP:20260423T093815
CREATED:20251130T081148Z
LAST-MODIFIED:20251201T070831Z
UID:33374-1766329200-1766340000@srce-slovenije.si
SUMMARY:Adventno popoldne na gradu Bogenšperk
DESCRIPTION:Glasbeno popoldne  z Otom Pestnerjem in Tonijem Povšetom.
URL:https://srce-slovenije.si/dogodek/adventno-popoldne-na-gradu-bogensperk/
LOCATION:Grad Bogenšperk\, Bogenšperk 5\, Šmartno pri Litiji\, 1275\, Slovenija
CATEGORIES:Glasba,Glasbeni dogodek,Koncert
ATTACH;FMTTYPE=image/jpeg:https://srce-slovenije.si/wp-content/uploads/2025/11/bogensperk.jpg
END:VEVENT
BEGIN:VEVENT
DTSTART;TZID=Europe/Ljubljana:20241130T080000
DTEND;TZID=Europe/Ljubljana:20241130T170000
DTSTAMP:20260423T093815
CREATED:20241029T143713Z
LAST-MODIFIED:20241030T104520Z
UID:28541-1732953600-1732986000@srce-slovenije.si
SUMMARY:Celovečerni koncert Godbe Tuhinjska dolina
DESCRIPTION:Turistično društvo Tuhinjska dolina\,\nE: info@td-tuhinjskadolina.si\,\nW: www.td-tuhinjskadolina.si
URL:https://srce-slovenije.si/dogodek/celovecerni-koncert-godbe-tuhinjska-dolina/
LOCATION:Osnovna šola Šmartno v Tuhinju\, Šmartno v Tuhinju 27a\, Laze v Tuhinju\, 1219
CATEGORIES:Dogodek,Dogodek za družine,Glasba,Glasbeni dogodek
ORGANIZER;CN="Turisti%C4%8Dno dru%C5%A1tvo Tuhinjska dolina":MAILTO:info@td-tuhinjskadolina.si
END:VEVENT
END:VCALENDAR