BEGIN:VCALENDAR
VERSION:2.0
PRODID:-// - ECPv6.15.20//NONSGML v1.0//EN
CALSCALE:GREGORIAN
METHOD:PUBLISH
X-ORIGINAL-URL:https://srce-slovenije.si
X-WR-CALDESC:Dogodki za 
REFRESH-INTERVAL;VALUE=DURATION:PT1H
X-Robots-Tag:noindex
X-PUBLISHED-TTL:PT1H
BEGIN:VTIMEZONE
TZID:Europe/Ljubljana
BEGIN:DAYLIGHT
TZOFFSETFROM:+0100
TZOFFSETTO:+0200
TZNAME:CEST
DTSTART:20230326T010000
END:DAYLIGHT
BEGIN:STANDARD
TZOFFSETFROM:+0200
TZOFFSETTO:+0100
TZNAME:CET
DTSTART:20231029T010000
END:STANDARD
BEGIN:DAYLIGHT
TZOFFSETFROM:+0100
TZOFFSETTO:+0200
TZNAME:CEST
DTSTART:20240331T010000
END:DAYLIGHT
BEGIN:STANDARD
TZOFFSETFROM:+0200
TZOFFSETTO:+0100
TZNAME:CET
DTSTART:20241027T010000
END:STANDARD
BEGIN:DAYLIGHT
TZOFFSETFROM:+0100
TZOFFSETTO:+0200
TZNAME:CEST
DTSTART:20250330T010000
END:DAYLIGHT
BEGIN:STANDARD
TZOFFSETFROM:+0200
TZOFFSETTO:+0100
TZNAME:CET
DTSTART:20251026T010000
END:STANDARD
BEGIN:DAYLIGHT
TZOFFSETFROM:+0100
TZOFFSETTO:+0200
TZNAME:CEST
DTSTART:20260329T010000
END:DAYLIGHT
BEGIN:STANDARD
TZOFFSETFROM:+0200
TZOFFSETTO:+0100
TZNAME:CET
DTSTART:20261025T010000
END:STANDARD
END:VTIMEZONE
BEGIN:VEVENT
DTSTART;TZID=Europe/Ljubljana:20251222T173000
DTEND;TZID=Europe/Ljubljana:20251222T183000
DTSTAMP:20260424T014217
CREATED:20251201T074356Z
LAST-MODIFIED:20251201T074356Z
UID:33440-1766424600-1766428200@srce-slovenije.si
SUMMARY:Krajši lutkovni predstavi “Sovica Oka” in “Bi se gnetli na teh saneh”
DESCRIPTION: 
URL:https://srce-slovenije.si/dogodek/krajsi-lutkovni-predstavi-sovica-oka-in-bi-se-gnetli-na-teh-saneh/
LOCATION:Kulturni dom Šmartno pri Litiji\, Za povrtmi 4\, Šmartno pri Litiji\, 1275\, Slovenija
CATEGORIES:Dogodek za družine,Lutkovna predstava
ORGANIZER;CN="Ob%C4%8Dina %C5%A0martno pri Litiji":MAILTO:info@smartno-litija.si
END:VEVENT
BEGIN:VEVENT
DTSTART;TZID=Europe/Ljubljana:20241110T110000
DTEND;TZID=Europe/Ljubljana:20241110T110000
DTSTAMP:20260424T014217
CREATED:20241028T123311Z
LAST-MODIFIED:20241028T123311Z
UID:28339-1731236400-1731236400@srce-slovenije.si
SUMMARY:Kako so lumpiji rešili svet
DESCRIPTION:Cena: 5 € Lutkovna predstava predstavlja sklepno dejanje procesa od nastanka Mercatorjevih Lumpi junakov pa do zasnove njihove predstave s pomembnim družbeno odgovornim sporočilom\, v katerem so vedno osrednjo vlogo igrali prav otroci. V natečaju zasnove Lumpi junakov je do sedaj sodelovalo več kot 1000 otrok\, v 2. ediciji natečaja projekta belih embalaž pa sodelovalo še 100 prijavljenih del posameznikov\, vrtcev in prvih triad osnovnih šol\, ki so iz belih embalaž priznanih…
URL:https://srce-slovenije.si/dogodek/kako-so-lumpiji-resili-svet/
CATEGORIES:Gledališče
END:VEVENT
BEGIN:VEVENT
DTSTART;TZID=Europe/Ljubljana:20241107T183000
DTEND;TZID=Europe/Ljubljana:20241107T183000
DTSTAMP:20260424T014217
CREATED:20241028T123311Z
LAST-MODIFIED:20241028T123311Z
UID:28337-1731004200-1731004200@srce-slovenije.si
SUMMARY:Abonma Kam'nček: Gozd raja!
DESCRIPTION:Cena: 5 € Zavod Federacija Ljubljana\, Dječje kazalište Dubrava\, Gledališče Glej in Zavod Kuskus Gozd raja! lutkovno-glasbena pravljica  Avtor predstave Peter Kus je skladatelj in glasbenik\, ki se zadnja leta posveča ustvarjanju gledaliških predstav. V njih raziskuje mejna področja lutkovnega gledališča\, posebej v odnosu do glasbe. Pomemben del njegovega ustvarjanja so tudi izvirni glasbeni instrumenti ter njihova uporaba v gledališču. Predstava Gozd…
URL:https://srce-slovenije.si/dogodek/abonma-kamncek-gozd-raja-2/
CATEGORIES:Gledališče
END:VEVENT
BEGIN:VEVENT
DTSTART;TZID=Europe/Ljubljana:20241107T170000
DTEND;TZID=Europe/Ljubljana:20241107T170000
DTSTAMP:20260424T014217
CREATED:20241028T123311Z
LAST-MODIFIED:20241028T123311Z
UID:28335-1730998800-1730998800@srce-slovenije.si
SUMMARY:Abonma Kam'nček: Gozd raja!
DESCRIPTION:Cena: 5 € Zavod Federacija Ljubljana\, Dječje kazalište Dubrava\, Gledališče Glej in Zavod Kuskus Gozd raja! lutkovno-glasbena pravljica  Avtor predstave Peter Kus je skladatelj in glasbenik\, ki se zadnja leta posveča ustvarjanju gledaliških predstav. V njih raziskuje mejna področja lutkovnega gledališča\, posebej v odnosu do glasbe. Pomemben del njegovega ustvarjanja so tudi izvirni glasbeni instrumenti ter njihova uporaba v gledališču. Predstava Gozd…
URL:https://srce-slovenije.si/dogodek/abonma-kamncek-gozd-raja/
CATEGORIES:Gledališče
END:VEVENT
END:VCALENDAR