BEGIN:VCALENDAR
VERSION:2.0
PRODID:-// - ECPv6.15.20//NONSGML v1.0//EN
CALSCALE:GREGORIAN
METHOD:PUBLISH
X-ORIGINAL-URL:https://srce-slovenije.si
X-WR-CALDESC:Dogodki za 
REFRESH-INTERVAL;VALUE=DURATION:PT1H
X-Robots-Tag:noindex
X-PUBLISHED-TTL:PT1H
BEGIN:VTIMEZONE
TZID:Europe/Ljubljana
BEGIN:DAYLIGHT
TZOFFSETFROM:+0100
TZOFFSETTO:+0200
TZNAME:CEST
DTSTART:20240331T010000
END:DAYLIGHT
BEGIN:STANDARD
TZOFFSETFROM:+0200
TZOFFSETTO:+0100
TZNAME:CET
DTSTART:20241027T010000
END:STANDARD
BEGIN:DAYLIGHT
TZOFFSETFROM:+0100
TZOFFSETTO:+0200
TZNAME:CEST
DTSTART:20250330T010000
END:DAYLIGHT
BEGIN:STANDARD
TZOFFSETFROM:+0200
TZOFFSETTO:+0100
TZNAME:CET
DTSTART:20251026T010000
END:STANDARD
BEGIN:DAYLIGHT
TZOFFSETFROM:+0100
TZOFFSETTO:+0200
TZNAME:CEST
DTSTART:20260329T010000
END:DAYLIGHT
BEGIN:STANDARD
TZOFFSETFROM:+0200
TZOFFSETTO:+0100
TZNAME:CET
DTSTART:20261025T010000
END:STANDARD
END:VTIMEZONE
BEGIN:VEVENT
DTSTART;TZID=Europe/Ljubljana:20251206T170000
DTEND;TZID=Europe/Ljubljana:20251206T190000
DTSTAMP:20260423T052148
CREATED:20251130T074513Z
LAST-MODIFIED:20251130T074513Z
UID:33370-1765040400-1765047600@srce-slovenije.si
SUMMARY:Občni zbor in prednovoletna zabava Moto klub Rokovnjači
DESCRIPTION:Občni zbor. \n\n\n\n\n\n\n\n\n\n\nDogodek namenjen preseku dela v preteklem letu\, sprejetju voznega reda za prihajajočo sezono in klubskem praznovanju novega leta.
URL:https://srce-slovenije.si/dogodek/obcni-zbor-in-prednovoletna-zabava-moto-klub-rokovnjaci-2/
CATEGORIES:Pogovor
END:VEVENT
END:VCALENDAR