BEGIN:VCALENDAR
VERSION:2.0
PRODID:-// - ECPv6.15.20//NONSGML v1.0//EN
CALSCALE:GREGORIAN
METHOD:PUBLISH
X-ORIGINAL-URL:https://srce-slovenije.si
X-WR-CALDESC:Dogodki za 
REFRESH-INTERVAL;VALUE=DURATION:PT1H
X-Robots-Tag:noindex
X-PUBLISHED-TTL:PT1H
BEGIN:VTIMEZONE
TZID:Europe/Ljubljana
BEGIN:DAYLIGHT
TZOFFSETFROM:+0100
TZOFFSETTO:+0200
TZNAME:CEST
DTSTART:20240331T010000
END:DAYLIGHT
BEGIN:STANDARD
TZOFFSETFROM:+0200
TZOFFSETTO:+0100
TZNAME:CET
DTSTART:20241027T010000
END:STANDARD
BEGIN:DAYLIGHT
TZOFFSETFROM:+0100
TZOFFSETTO:+0200
TZNAME:CEST
DTSTART:20250330T010000
END:DAYLIGHT
BEGIN:STANDARD
TZOFFSETFROM:+0200
TZOFFSETTO:+0100
TZNAME:CET
DTSTART:20251026T010000
END:STANDARD
BEGIN:DAYLIGHT
TZOFFSETFROM:+0100
TZOFFSETTO:+0200
TZNAME:CEST
DTSTART:20260329T010000
END:DAYLIGHT
BEGIN:STANDARD
TZOFFSETFROM:+0200
TZOFFSETTO:+0100
TZNAME:CET
DTSTART:20261025T010000
END:STANDARD
BEGIN:DAYLIGHT
TZOFFSETFROM:+0100
TZOFFSETTO:+0200
TZNAME:CEST
DTSTART:20270328T010000
END:DAYLIGHT
BEGIN:STANDARD
TZOFFSETFROM:+0200
TZOFFSETTO:+0100
TZNAME:CET
DTSTART:20271031T010000
END:STANDARD
END:VTIMEZONE
BEGIN:VEVENT
DTSTART;TZID=Europe/Ljubljana:20260203T190000
DTEND;TZID=Europe/Ljubljana:20260203T203000
DTSTAMP:20260422T002026
CREATED:20260122T091843Z
LAST-MODIFIED:20260122T091843Z
UID:33738-1770145200-1770150600@srce-slovenije.si
SUMMARY:Pogovor: Osebne finance in premišljeno investiranje – pogovor z Jurijem Šimacem in Juretom Ugovškom
DESCRIPTION:Zadruga KIKštarter\, Nika Škrjanec\, 040 665 343\, info@kikstarter.si\,\nhttps://kikstarter.si/event/osebne-finance-in-premisljeno-investiranje-pogovor-z-jurijem-simacem-in-juretom-ugovskom-2/\n\n\n\n\n\n\nNa delavnico se je potrebno prijaviti preko spletnega obrazca. https://docs.google.com/forms/d/e/1FAIpQLSfPUP2kvnSiNQ4BiR8iJDIiINg2oSsq-6vMrPFpGHUHo1xMQg/viewform
URL:https://srce-slovenije.si/dogodek/pogovor-osebne-finance-in-premisljeno-investiranje-pogovor-z-jurijem-simacem-in-juretom-ugovskom-2/
LOCATION:KIKštarter
CATEGORIES:Delavnica,Delavnice,Dogodek,Izobraževanje,Izobraževanje podjetnikov
END:VEVENT
BEGIN:VEVENT
DTSTART;TZID=Europe/Ljubljana:20260201T180000
DTEND;TZID=Europe/Ljubljana:20260201T200000
DTSTAMP:20260422T002026
CREATED:20260127T072249Z
LAST-MODIFIED:20260127T072249Z
UID:33793-1769968800-1769976000@srce-slovenije.si
SUMMARY:Zimski PUB KVIZ v Šmartnem
DESCRIPTION:
URL:https://srce-slovenije.si/dogodek/zimski-pub-kviz-v-smartnem/
LOCATION:Kulturni dom Šmartno pri Litiji\, Za povrtmi 4\, Šmartno pri Litiji\, 1275\, Slovenija
CATEGORIES:Dogodek
ATTACH;FMTTYPE=image/png:https://srce-slovenije.si/wp-content/uploads/2026/01/plakat-pub-kviz.png
ORGANIZER;CN="Javni zavod Bogen%C5%A1perk":MAILTO:info@bogensperk.si
END:VEVENT
BEGIN:VEVENT
DTSTART;VALUE=DATE:20260201
DTEND;VALUE=DATE:20260301
DTSTAMP:20260422T002026
CREATED:20260120T135051Z
LAST-MODIFIED:20260120T135051Z
UID:33709-1769904000-1772323199@srce-slovenije.si
SUMMARY:Mesec štrukljev
DESCRIPTION:Velika planina d.o.o.\, 040 251 771\, info@velikaplanina.si; www.velikaplanina.si
URL:https://srce-slovenije.si/dogodek/mesec-strukljev/
LOCATION:Gostilna Zeleni rob\, Velika planina
CATEGORIES:Dogodek,Kulinarični dogodek
END:VEVENT
BEGIN:VEVENT
DTSTART;VALUE=DATE:20260130
DTEND;VALUE=DATE:20260302
DTSTAMP:20260422T002026
CREATED:20260122T093440Z
LAST-MODIFIED:20260122T093440Z
UID:33749-1769731200-1772409599@srce-slovenije.si
SUMMARY:Drsališče\, rekreativno drsanje od 30.1. do 1.3. 2026 med 16. in 19. uro
DESCRIPTION:TD Tuhinjska dolina\, Domen Lorber\, 051 304 284\, info@td-tuhinjskadolina.si\, https://www.td-tuhinjskadolina.si/\n\n\n\nVABLJENI NA Drsališče\, rekreativno drsanje od 30.1. do 1.3. 2026 med 16. in 19. uro
URL:https://srce-slovenije.si/dogodek/drsalisce-rekreativno-drsanje-od-30-1-do-1-3-2026-med-16-in-19-uro/
LOCATION:Prireditveni šotor\, Snovik
CATEGORIES:Dogodek,Razstava,Športni dogodek
END:VEVENT
BEGIN:VEVENT
DTSTART;TZID=Europe/Ljubljana:20260129T170000
DTEND;TZID=Europe/Ljubljana:20260129T180000
DTSTAMP:20260422T002026
CREATED:20251024T100714Z
LAST-MODIFIED:20251216T120610Z
UID:32753-1769706000-1769709600@srce-slovenije.si
SUMMARY:Pravljične urice
DESCRIPTION:Brezplačno. Udeležba je mogoča samo za člane KFB Kamnik.
URL:https://srce-slovenije.si/dogodek/pravljicne-urice-2/
LOCATION:Arboretum Volčji Potok\, Volčji Potok 3\, 1235 Radomlje
CATEGORIES:Dogodek,Razstava,Razstave,Več tedenska prireditev
ORGANIZER;CN="Arboretum Vol%C4%8Dji Potok":MAILTO:prireditve@arboretum.si
END:VEVENT
BEGIN:VEVENT
DTSTART;TZID=Europe/Ljubljana:20260128T190000
DTEND;TZID=Europe/Ljubljana:20260128T203000
DTSTAMP:20260422T002026
CREATED:20251216T115623Z
LAST-MODIFIED:20251216T115623Z
UID:33568-1769626800-1769632200@srce-slovenije.si
SUMMARY:Pogovor: Osebne finance in premišljeno investiranje – pogovor z Jurijem Šimacem in Juretom Ugovškom
DESCRIPTION:Na delavnico se je potrebno prijaviti preko spletnega obrazca. https://docs.google.com/forms/d/e/1FAIpQLSfPUP2kvnSiNQ4BiR8iJDIiINg2oSsq-6vMrPFpGHUHo1xMQg/viewform\n\n\n\n  \n\n\n\nZadruga KIKštarter\, Nika Škrjanec\, 040 665 343\, info@kikstarter.si\,\nhttps://kikstarter.si/event/osebne-finance-in-premisljeno-investiranje-pogovor-z-jurijem-simacem-in-juretom-ugovskom/
URL:https://srce-slovenije.si/dogodek/pogovor-osebne-finance-in-premisljeno-investiranje-pogovor-z-jurijem-simacem-in-juretom-ugovskom/
LOCATION:Zadruga KIKštarter
CATEGORIES:Delavnica,Delavnice,Dogodek,Izobraževanje,Izobraževanje podjetnikov
END:VEVENT
BEGIN:VEVENT
DTSTART;TZID=Europe/Ljubljana:20260128T180000
DTEND;TZID=Europe/Ljubljana:20260128T190000
DTSTAMP:20260422T002026
CREATED:20251216T115154Z
LAST-MODIFIED:20251216T115154Z
UID:33562-1769623200-1769626800@srce-slovenije.si
SUMMARY:Maistrov večer: dr. Gregor Antoličič in Špela Valadžija: Maistrova časovna kapsula
DESCRIPTION:Medobčinski muzej Kamnik\, Zora Torkar\, 01 8317 662\, info@muzejkamnik.si; https://www.muzej-kamnik-on.net/
URL:https://srce-slovenije.si/dogodek/maistrov-vecer-dr-gregor-antolicic-in-spela-valadzija-maistrova-casovna-kapsula/
LOCATION:Rojstna hiša Rudolfa Maister\, Šutna 23\, Kamnik
CATEGORIES:Dogodek
END:VEVENT
BEGIN:VEVENT
DTSTART;TZID=Europe/Ljubljana:20260127T170000
DTEND;TZID=Europe/Ljubljana:20260127T193000
DTSTAMP:20260422T002026
CREATED:20251216T115418Z
LAST-MODIFIED:20251216T115418Z
UID:33565-1769533200-1769542200@srce-slovenije.si
SUMMARY:Delavnica: Uvedba AI procesov v podjetje
DESCRIPTION:Zadruga KIKštarter\, Nika Škrjanec\, 040 665 343\, info@kikstarter.si\,\nhttps://kikstarter.si/event/delavnica-uvedba-ai-procesov-v-podjetje/\n\n\n\n  \nNa delavnico se je potrebno prijaviti preko spletnega obrazca. https://docs.google.com/forms/d/e/1FAIpQLScmlOWRRa3j1JUZ9gkhhuQ916tRYIKyH9BVgWVap-42BLuTEg/viewform
URL:https://srce-slovenije.si/dogodek/delavnica-uvedba-ai-procesov-v-podjetje/
LOCATION:KIKštarter
CATEGORIES:Dogodek,Izobraževanje,Izobraževanje podjetnikov
END:VEVENT
BEGIN:VEVENT
DTSTART;TZID=Europe/Ljubljana:20260122T170000
DTEND;TZID=Europe/Ljubljana:20260122T180000
DTSTAMP:20260422T002026
CREATED:20251024T100831Z
LAST-MODIFIED:20251216T120528Z
UID:32755-1769101200-1769104800@srce-slovenije.si
SUMMARY:Pravljične urice
DESCRIPTION:Brezplačno. Udeležba je mogoča samo za člane KFB Kamnik.
URL:https://srce-slovenije.si/dogodek/pravljicne-urice-3/
LOCATION:Arboretum Volčji Potok\, Volčji Potok 3\, 1235 Radomlje
CATEGORIES:Delavnice,Dogodek,Razstava,Razstave,Več tedenska prireditev
ORGANIZER;CN="Arboretum Vol%C4%8Dji Potok":MAILTO:prireditve@arboretum.si
END:VEVENT
BEGIN:VEVENT
DTSTART;TZID=Europe/Ljubljana:20260116T180000
DTEND;TZID=Europe/Ljubljana:20260116T193000
DTSTAMP:20260422T002026
CREATED:20251216T115022Z
LAST-MODIFIED:20251216T115022Z
UID:33558-1768586400-1768591800@srce-slovenije.si
SUMMARY:Pesniški večer s Pinom Pograjcem
DESCRIPTION:Medobčinski muzej Kamnik\, Zora Torkar\, 01 8317 662\, info@muzejkamnik.si; https://www.muzej-kamnik-on.net/
URL:https://srce-slovenije.si/dogodek/pesniski-vecer-s-pinom-pograjcem/
LOCATION:Galerija Miha Maleš\, Glavni trg 2\, Kamnik
CATEGORIES:Dogodek,Glasba,Glasbeni dogodek,Kulturni dogodek
END:VEVENT
BEGIN:VEVENT
DTSTART;TZID=Europe/Ljubljana:20260107T180000
DTEND;TZID=Europe/Ljubljana:20260107T190000
DTSTAMP:20260422T002026
CREATED:20251216T114820Z
LAST-MODIFIED:20251216T114820Z
UID:33554-1767808800-1767812400@srce-slovenije.si
SUMMARY:Javno vodstvo po razstavi Notranjska – Maistrov drugi\, vendar pravi dom
DESCRIPTION:Medobčinski muzej Kamnik\, Zora Torkar\, 01 8317 662\, info@muzejkamnik.si; https://www.muzej-kamnik-on.net/
URL:https://srce-slovenije.si/dogodek/javno-vodstvo-po-razstavi-notranjska-maistrov-drugi-vendar-pravi-dom/
LOCATION:Rojstna hiša Rudolfa Maister\, Šutna 23\, Kamnik
CATEGORIES:Dogodek,Razstava,Razstave
END:VEVENT
BEGIN:VEVENT
DTSTART;TZID=Europe/Ljubljana:20251230T173000
DTEND;TZID=Europe/Ljubljana:20251230T183000
DTSTAMP:20260422T002026
CREATED:20251130T131022Z
LAST-MODIFIED:20251201T070249Z
UID:33406-1767115800-1767119400@srce-slovenije.si
SUMMARY:Gledališka skupina vzgojiteljic vrtca ciciban: “božična vila in snežak
DESCRIPTION:Božična vila in snežak
URL:https://srce-slovenije.si/dogodek/gledaliska-skupina-vzgojiteljic-vrtca-ciciban-bozicna-vila-in-snezak/
LOCATION:Kulturni dom Šmartno pri Litiji\, Za povrtmi 4\, Šmartno pri Litiji\, 1275\, Slovenija
CATEGORIES:Gledališče,Gledališka predstava,Predstava
END:VEVENT
BEGIN:VEVENT
DTSTART;TZID=Europe/Ljubljana:20251229T180000
DTEND;TZID=Europe/Ljubljana:20251229T190000
DTSTAMP:20260422T002026
CREATED:20251119T131057Z
LAST-MODIFIED:20251119T131057Z
UID:33142-1767031200-1767034800@srce-slovenije.si
SUMMARY:Koncert v rudniku PINK PANKER
DESCRIPTION:
URL:https://srce-slovenije.si/dogodek/koncert-v-rudniku-pink-panker/
LOCATION:Rudnik Sitarjevec
CATEGORIES:Dogodek,Glasba,Glasbeni dogodek
ORGANIZER;CN="Razvojni center Srca Slovenije":MAILTO:info@razvoj.si
END:VEVENT
BEGIN:VEVENT
DTSTART;TZID=Europe/Ljubljana:20251228T170000
DTEND;TZID=Europe/Ljubljana:20251228T190000
DTSTAMP:20260422T002026
CREATED:20251119T110204Z
LAST-MODIFIED:20251119T125210Z
UID:33093-1766941200-1766948400@srce-slovenije.si
SUMMARY:ŽIVE JASLICE
DESCRIPTION:
URL:https://srce-slovenije.si/dogodek/zive-jaslice-2/
LOCATION:Sava pri Litiji\, Sava 34\, Sava pri Litiji\, 1282\, Slovenia
CATEGORIES:Dogodek,Dogodek na prostem,Dogodek za družine
ATTACH;FMTTYPE=image/png:https://srce-slovenije.si/wp-content/uploads/2025/11/logo-lezeci_CAROBNA-LITIJA-2025_za-temno-podlago-scaled.png
END:VEVENT
BEGIN:VEVENT
DTSTART;TZID=Europe/Ljubljana:20251227T190000
DTEND;TZID=Europe/Ljubljana:20251227T210000
DTSTAMP:20260422T002026
CREATED:20251126T132818Z
LAST-MODIFIED:20251126T132818Z
UID:33173-1766862000-1766869200@srce-slovenije.si
SUMMARY:Božični koncert - Božična noč
DESCRIPTION:
URL:https://srce-slovenije.si/dogodek/bozicni-koncert-bozicna-noc/
LOCATION:cerkev sv. Vida v Šentvidu\, Šentvid pri Lukovici\, 1225\, Slovenia
CATEGORIES:Glasba,Glasbeni dogodek
ORGANIZER;CN="MePZ %C5%A0entvi%C5%A1ki Zvon":MAILTO:andreja.volf@avtotehna-vis.si
END:VEVENT
BEGIN:VEVENT
DTSTART;TZID=Europe/Ljubljana:20251227T190000
DTEND;TZID=Europe/Ljubljana:20251227T210000
DTSTAMP:20260422T002026
CREATED:20251119T132136Z
LAST-MODIFIED:20251119T132136Z
UID:33147-1766862000-1766869200@srce-slovenije.si
SUMMARY:Božično novoletni koncert Pihalnega orkestra Litja
DESCRIPTION:
URL:https://srce-slovenije.si/dogodek/bozicno-novoletni-koncert-pihalnega-orkestra-litja/
LOCATION:Športna dvorana Litija\, Ulica Mire Pregljeve 1\, Litija\, 1270\, Slovenia
CATEGORIES:Dogodek,Dogodek za družine,Glasba,Glasbeni dogodek
ATTACH;FMTTYPE=image/jpeg:https://srce-slovenije.si/wp-content/uploads/2025/11/495082399_1234633935333692_3445164524005971596_n.jpg
END:VEVENT
BEGIN:VEVENT
DTSTART;TZID=Europe/Ljubljana:20251227T170000
DTEND;TZID=Europe/Ljubljana:20251227T210000
DTSTAMP:20260422T002026
CREATED:20251119T101648Z
LAST-MODIFIED:20251119T125220Z
UID:33091-1766854800-1766869200@srce-slovenije.si
SUMMARY:DEJAN VUNJAK
DESCRIPTION:
URL:https://srce-slovenije.si/dogodek/dejan-vunjak/
LOCATION:Parkirišče pred občino Litija\, Jerebova ulica 14\, Litija\, 1270\, Slovenia
CATEGORIES:Dogodek na prostem,Glasba,Glasbeni dogodek
ORGANIZER;CN="Ob%C4%8Dina Litija":MAILTO:kati.zidar@litija.si
END:VEVENT
BEGIN:VEVENT
DTSTART;TZID=Europe/Ljubljana:20251226T200000
DTEND;TZID=Europe/Ljubljana:20251226T233000
DTSTAMP:20260422T002026
CREATED:20251119T101534Z
LAST-MODIFIED:20251119T125229Z
UID:33086-1766779200-1766791800@srce-slovenije.si
SUMMARY:SIDDHARTA
DESCRIPTION:Predskupini: F.R.E.Š. in Phantomia
URL:https://srce-slovenije.si/dogodek/siddharta/
LOCATION:Parkirišče pred občino Litija\, Jerebova ulica 14\, Litija\, 1270\, Slovenia
CATEGORIES:Glasba,Glasbeni dogodek
ATTACH;FMTTYPE=image/png:https://srce-slovenije.si/wp-content/uploads/2025/11/logo-lezeci_CAROBNA-LITIJA-2025_za-temno-podlago-scaled.png
ORGANIZER;CN="Ob%C4%8Dina Litija":MAILTO:kati.zidar@litija.si
END:VEVENT
BEGIN:VEVENT
DTSTART;TZID=Europe/Ljubljana:20251226T180000
DTEND;TZID=Europe/Ljubljana:20251226T200000
DTSTAMP:20260422T002026
CREATED:20251130T075053Z
LAST-MODIFIED:20251201T070605Z
UID:33372-1766772000-1766779200@srce-slovenije.si
SUMMARY:Novoletni koncert in obeležitev praznika samostojnosti in enotnosti
DESCRIPTION:
URL:https://srce-slovenije.si/dogodek/novoletni-koncert-in-obelezitev-praznika-samostojnosti-in-enotnosti/
LOCATION:Brdo Pri Lukovici\, Lukovica\, 1225\, Slovenija
CATEGORIES:Gledališče,Praznični dogodek,Predstava
END:VEVENT
BEGIN:VEVENT
DTSTART;TZID=Europe/Ljubljana:20251226T180000
DTEND;TZID=Europe/Ljubljana:20251226T190000
DTSTAMP:20260422T002026
CREATED:20251128T120342Z
LAST-MODIFIED:20251128T120342Z
UID:33291-1766772000-1766775600@srce-slovenije.si
SUMMARY:Proslava ob dnevu samostojnosti in enotnosti
DESCRIPTION:
URL:https://srce-slovenije.si/dogodek/proslava-ob-dnevu-samostojnosti-in-enotnosti-2/
LOCATION:Velika dvorana
CATEGORIES:Dogodek
END:VEVENT
BEGIN:VEVENT
DTSTART;TZID=Europe/Ljubljana:20251226T170000
DTEND;TZID=Europe/Ljubljana:20251226T190000
DTSTAMP:20260422T002026
CREATED:20251119T125704Z
LAST-MODIFIED:20251119T125704Z
UID:33138-1766768400-1766775600@srce-slovenije.si
SUMMARY:Praznični večer z živimi jaslicami
DESCRIPTION:TD Tuhinjska dolina\, Domen Lorber\, 051 304 284\, info@td-tuhinjskadolina.si
URL:https://srce-slovenije.si/dogodek/praznicni-vecer-z-zivimi-jaslicami/
LOCATION:pri Termah v Snoviku
CATEGORIES:Dogodek,Kulturni dogodek,Praznični dogodek
END:VEVENT
BEGIN:VEVENT
DTSTART;TZID=Europe/Ljubljana:20251226T170000
DTEND;TZID=Europe/Ljubljana:20251226T183000
DTSTAMP:20260422T002026
CREATED:20251201T073739Z
LAST-MODIFIED:20251201T073739Z
UID:33436-1766768400-1766773800@srce-slovenije.si
SUMMARY:Pripelji starša v vrtec
DESCRIPTION:
URL:https://srce-slovenije.si/dogodek/pripelji-starsa-v-vrtec-4/
LOCATION:Igrišče Vrtca Ciciban\, Šmartno pri Litiji
CATEGORIES:Dogodek za družine
END:VEVENT
BEGIN:VEVENT
DTSTART;TZID=Europe/Ljubljana:20251225T170000
DTEND;TZID=Europe/Ljubljana:20251225T190000
DTSTAMP:20260422T002026
CREATED:20251130T130640Z
LAST-MODIFIED:20251201T070737Z
UID:33404-1766682000-1766689200@srce-slovenije.si
SUMMARY:Žive jaslice
DESCRIPTION:
URL:https://srce-slovenije.si/dogodek/zive-jaslice-3/
LOCATION:Gasilski dom Javorje\, Javorje\, Šmartno pri Litiji\, 1275\, Slovenija
CATEGORIES:Dobrodelni dogodek,Dogodek,Dogodek na prostem,Predstava
ORGANIZER;CN="Kulturno dru%C5%A1tvo Javorje":MAILTO:kulturnodrustvojavorje@gmail.com
END:VEVENT
BEGIN:VEVENT
DTSTART;TZID=Europe/Ljubljana:20251224T080000
DTEND;TZID=Europe/Ljubljana:20251224T120000
DTSTAMP:20260422T002026
CREATED:20251119T101256Z
LAST-MODIFIED:20251119T125243Z
UID:33083-1766563200-1766577600@srce-slovenije.si
SUMMARY:BOŽIČNI SEJEM
DESCRIPTION:Bogata ponudba na prazničnih stojnicah
URL:https://srce-slovenije.si/dogodek/bozicni-sejem-3/
LOCATION:Tržnica pred Občino Litija\, Jerebova ulica 14\, Litija\, 1270\, Slovenia
CATEGORIES:Dogodek na prostem,Sejem
ATTACH;FMTTYPE=image/png:https://srce-slovenije.si/wp-content/uploads/2025/11/logo-lezeci_CAROBNA-LITIJA-2025_za-temno-podlago-scaled.png
END:VEVENT
BEGIN:VEVENT
DTSTART;TZID=Europe/Ljubljana:20251223T200000
DTEND;TZID=Europe/Ljubljana:20251223T210000
DTSTAMP:20260422T002026
CREATED:20251128T120208Z
LAST-MODIFIED:20251128T120208Z
UID:33288-1766520000-1766523600@srce-slovenije.si
SUMMARY:54. Novoletni koncert: Strast\, smeh in šampanjec
DESCRIPTION:
URL:https://srce-slovenije.si/dogodek/54-novoletni-koncert-strast-smeh-in-sampanjec-2/
LOCATION:Velika dvorana
CATEGORIES:Dogodek
END:VEVENT
BEGIN:VEVENT
DTSTART;TZID=Europe/Ljubljana:20251223T150000
DTEND;TZID=Europe/Ljubljana:20260102T170000
DTSTAMP:20260422T002026
CREATED:20251119T125517Z
LAST-MODIFIED:20251119T125517Z
UID:33131-1766502000-1767373200@srce-slovenije.si
SUMMARY:Razstava jaslic
DESCRIPTION:
URL:https://srce-slovenije.si/dogodek/razstava-jaslic/
LOCATION:TD Tuhinjska dolina\, Domen Lorber\, 051 304 284\, info@td-tuhinjskadolina.si
CATEGORIES:Delavnice,Dogodek,Prireditve
END:VEVENT
BEGIN:VEVENT
DTSTART;TZID=Europe/Ljubljana:20251223T150000
DTEND;TZID=Europe/Ljubljana:20251223T190000
DTSTAMP:20260422T002026
CREATED:20251119T100910Z
LAST-MODIFIED:20251119T125302Z
UID:33079-1766502000-1766516400@srce-slovenije.si
SUMMARY:BOŽIČNI SEJEM
DESCRIPTION:Pred Športno dvorano Litija \nBogata ponudba na prazničnih stojnicah\n16:30 / nastopi učencev GŠ Litija Šmartno\n17:30 / BOŽIČNI REPKI (Trkaj)\n18:30 / Prihod Dedka Mraza\n18:45 / Pihalni orkester Litija \n 
URL:https://srce-slovenije.si/dogodek/bozicni-sejem-2/
LOCATION:Športna dvorana Litija\, Ulica Mire Pregljeve 1\, Litija\, 1270\, Slovenia
CATEGORIES:Dogodek,Dogodek na prostem,Dogodek za družine,Praznični dogodek,Sejem
ATTACH;FMTTYPE=image/png:https://srce-slovenije.si/wp-content/uploads/2025/11/logo-lezeci_CAROBNA-LITIJA-2025_za-temno-podlago-scaled.png
ORGANIZER;CN="Razvojni center Srca Slovenije":MAILTO:info@razvoj.si
END:VEVENT
BEGIN:VEVENT
DTSTART;TZID=Europe/Ljubljana:20251222T200000
DTEND;TZID=Europe/Ljubljana:20251222T210000
DTSTAMP:20260422T002026
CREATED:20251128T120030Z
LAST-MODIFIED:20251128T120030Z
UID:33285-1766433600-1766437200@srce-slovenije.si
SUMMARY:54. Novoletni koncert: Strast\, smeh in šampanjec
DESCRIPTION:
URL:https://srce-slovenije.si/dogodek/54-novoletni-koncert-strast-smeh-in-sampanjec/
LOCATION:Velika dvorana
CATEGORIES:Dogodek,Kulturni dogodek
END:VEVENT
BEGIN:VEVENT
DTSTART;TZID=Europe/Ljubljana:20251222T180000
DTEND;TZID=Europe/Ljubljana:20251222T190000
DTSTAMP:20260422T002026
CREATED:20251126T134011Z
LAST-MODIFIED:20251126T134011Z
UID:33189-1766426400-1766430000@srce-slovenije.si
SUMMARY:Razredni nastop (prof. Nadja Drakslar Petrač)
DESCRIPTION:
URL:https://srce-slovenije.si/dogodek/razredni-nastop-prof-nadja-drakslar-petrac/
LOCATION:Glasbena šola Litija – Šmartno
CATEGORIES:Glasba,Glasbeni dogodek
ATTACH;FMTTYPE=image/png:https://srce-slovenije.si/wp-content/uploads/2024/09/prenos.png
ORGANIZER;CN="Glasbena %C5%A1ola Litija - %C5%A0martno":MAILTO:ravnateljica@gslitijasmartno.si
END:VEVENT
BEGIN:VEVENT
DTSTART;TZID=Europe/Ljubljana:20251222T173000
DTEND;TZID=Europe/Ljubljana:20251222T183000
DTSTAMP:20260422T002026
CREATED:20251201T074356Z
LAST-MODIFIED:20251201T074356Z
UID:33440-1766424600-1766428200@srce-slovenije.si
SUMMARY:Krajši lutkovni predstavi “Sovica Oka” in “Bi se gnetli na teh saneh”
DESCRIPTION: 
URL:https://srce-slovenije.si/dogodek/krajsi-lutkovni-predstavi-sovica-oka-in-bi-se-gnetli-na-teh-saneh/
LOCATION:Kulturni dom Šmartno pri Litiji\, Za povrtmi 4\, Šmartno pri Litiji\, 1275\, Slovenija
CATEGORIES:Dogodek za družine,Lutkovna predstava
ORGANIZER;CN="Ob%C4%8Dina %C5%A0martno pri Litiji":MAILTO:info@smartno-litija.si
END:VEVENT
END:VCALENDAR