BEGIN:VCALENDAR
VERSION:2.0
PRODID:-// - ECPv6.15.20//NONSGML v1.0//EN
CALSCALE:GREGORIAN
METHOD:PUBLISH
X-ORIGINAL-URL:https://srce-slovenije.si
X-WR-CALDESC:Dogodki za 
REFRESH-INTERVAL;VALUE=DURATION:PT1H
X-Robots-Tag:noindex
X-PUBLISHED-TTL:PT1H
BEGIN:VTIMEZONE
TZID:Europe/Ljubljana
BEGIN:DAYLIGHT
TZOFFSETFROM:+0100
TZOFFSETTO:+0200
TZNAME:CEST
DTSTART:20240331T010000
END:DAYLIGHT
BEGIN:STANDARD
TZOFFSETFROM:+0200
TZOFFSETTO:+0100
TZNAME:CET
DTSTART:20241027T010000
END:STANDARD
BEGIN:DAYLIGHT
TZOFFSETFROM:+0100
TZOFFSETTO:+0200
TZNAME:CEST
DTSTART:20250330T010000
END:DAYLIGHT
BEGIN:STANDARD
TZOFFSETFROM:+0200
TZOFFSETTO:+0100
TZNAME:CET
DTSTART:20251026T010000
END:STANDARD
BEGIN:DAYLIGHT
TZOFFSETFROM:+0100
TZOFFSETTO:+0200
TZNAME:CEST
DTSTART:20260329T010000
END:DAYLIGHT
BEGIN:STANDARD
TZOFFSETFROM:+0200
TZOFFSETTO:+0100
TZNAME:CET
DTSTART:20261025T010000
END:STANDARD
BEGIN:DAYLIGHT
TZOFFSETFROM:+0100
TZOFFSETTO:+0200
TZNAME:CEST
DTSTART:20270328T010000
END:DAYLIGHT
BEGIN:STANDARD
TZOFFSETFROM:+0200
TZOFFSETTO:+0100
TZNAME:CET
DTSTART:20271031T010000
END:STANDARD
END:VTIMEZONE
BEGIN:VEVENT
DTSTART;TZID=Europe/Ljubljana:20251226T170000
DTEND;TZID=Europe/Ljubljana:20251226T183000
DTSTAMP:20260422T212001
CREATED:20251201T073739Z
LAST-MODIFIED:20251201T073739Z
UID:33436-1766768400-1766773800@srce-slovenije.si
SUMMARY:Pripelji starša v vrtec
DESCRIPTION:
URL:https://srce-slovenije.si/dogodek/pripelji-starsa-v-vrtec-4/
LOCATION:Igrišče Vrtca Ciciban\, Šmartno pri Litiji
CATEGORIES:Dogodek za družine
END:VEVENT
BEGIN:VEVENT
DTSTART;TZID=Europe/Ljubljana:20251225T170000
DTEND;TZID=Europe/Ljubljana:20251225T190000
DTSTAMP:20260422T212001
CREATED:20251130T130640Z
LAST-MODIFIED:20251201T070737Z
UID:33404-1766682000-1766689200@srce-slovenije.si
SUMMARY:Žive jaslice
DESCRIPTION:
URL:https://srce-slovenije.si/dogodek/zive-jaslice-3/
LOCATION:Gasilski dom Javorje\, Javorje\, Šmartno pri Litiji\, 1275\, Slovenija
CATEGORIES:Dobrodelni dogodek,Dogodek,Dogodek na prostem,Predstava
ORGANIZER;CN="Kulturno dru%C5%A1tvo Javorje":MAILTO:kulturnodrustvojavorje@gmail.com
END:VEVENT
BEGIN:VEVENT
DTSTART;TZID=Europe/Ljubljana:20251224T080000
DTEND;TZID=Europe/Ljubljana:20251224T120000
DTSTAMP:20260422T212001
CREATED:20251119T101256Z
LAST-MODIFIED:20251119T125243Z
UID:33083-1766563200-1766577600@srce-slovenije.si
SUMMARY:BOŽIČNI SEJEM
DESCRIPTION:Bogata ponudba na prazničnih stojnicah
URL:https://srce-slovenije.si/dogodek/bozicni-sejem-3/
LOCATION:Tržnica pred Občino Litija\, Jerebova ulica 14\, Litija\, 1270\, Slovenia
CATEGORIES:Dogodek na prostem,Sejem
ATTACH;FMTTYPE=image/png:https://srce-slovenije.si/wp-content/uploads/2025/11/logo-lezeci_CAROBNA-LITIJA-2025_za-temno-podlago-scaled.png
END:VEVENT
BEGIN:VEVENT
DTSTART;TZID=Europe/Ljubljana:20251223T200000
DTEND;TZID=Europe/Ljubljana:20251223T210000
DTSTAMP:20260422T212001
CREATED:20251128T120208Z
LAST-MODIFIED:20251128T120208Z
UID:33288-1766520000-1766523600@srce-slovenije.si
SUMMARY:54. Novoletni koncert: Strast\, smeh in šampanjec
DESCRIPTION:
URL:https://srce-slovenije.si/dogodek/54-novoletni-koncert-strast-smeh-in-sampanjec-2/
LOCATION:Velika dvorana
CATEGORIES:Dogodek
END:VEVENT
BEGIN:VEVENT
DTSTART;TZID=Europe/Ljubljana:20251223T150000
DTEND;TZID=Europe/Ljubljana:20260102T170000
DTSTAMP:20260422T212001
CREATED:20251119T125517Z
LAST-MODIFIED:20251119T125517Z
UID:33131-1766502000-1767373200@srce-slovenije.si
SUMMARY:Razstava jaslic
DESCRIPTION:
URL:https://srce-slovenije.si/dogodek/razstava-jaslic/
LOCATION:TD Tuhinjska dolina\, Domen Lorber\, 051 304 284\, info@td-tuhinjskadolina.si
CATEGORIES:Delavnice,Dogodek,Prireditve
END:VEVENT
BEGIN:VEVENT
DTSTART;TZID=Europe/Ljubljana:20251223T150000
DTEND;TZID=Europe/Ljubljana:20251223T190000
DTSTAMP:20260422T212001
CREATED:20251119T100910Z
LAST-MODIFIED:20251119T125302Z
UID:33079-1766502000-1766516400@srce-slovenije.si
SUMMARY:BOŽIČNI SEJEM
DESCRIPTION:Pred Športno dvorano Litija \nBogata ponudba na prazničnih stojnicah\n16:30 / nastopi učencev GŠ Litija Šmartno\n17:30 / BOŽIČNI REPKI (Trkaj)\n18:30 / Prihod Dedka Mraza\n18:45 / Pihalni orkester Litija \n 
URL:https://srce-slovenije.si/dogodek/bozicni-sejem-2/
LOCATION:Športna dvorana Litija\, Ulica Mire Pregljeve 1\, Litija\, 1270\, Slovenia
CATEGORIES:Dogodek,Dogodek na prostem,Dogodek za družine,Praznični dogodek,Sejem
ATTACH;FMTTYPE=image/png:https://srce-slovenije.si/wp-content/uploads/2025/11/logo-lezeci_CAROBNA-LITIJA-2025_za-temno-podlago-scaled.png
ORGANIZER;CN="Razvojni center Srca Slovenije":MAILTO:info@razvoj.si
END:VEVENT
BEGIN:VEVENT
DTSTART;TZID=Europe/Ljubljana:20251222T200000
DTEND;TZID=Europe/Ljubljana:20251222T210000
DTSTAMP:20260422T212001
CREATED:20251128T120030Z
LAST-MODIFIED:20251128T120030Z
UID:33285-1766433600-1766437200@srce-slovenije.si
SUMMARY:54. Novoletni koncert: Strast\, smeh in šampanjec
DESCRIPTION:
URL:https://srce-slovenije.si/dogodek/54-novoletni-koncert-strast-smeh-in-sampanjec/
LOCATION:Velika dvorana
CATEGORIES:Dogodek,Kulturni dogodek
END:VEVENT
BEGIN:VEVENT
DTSTART;TZID=Europe/Ljubljana:20251222T180000
DTEND;TZID=Europe/Ljubljana:20251222T190000
DTSTAMP:20260422T212001
CREATED:20251126T134011Z
LAST-MODIFIED:20251126T134011Z
UID:33189-1766426400-1766430000@srce-slovenije.si
SUMMARY:Razredni nastop (prof. Nadja Drakslar Petrač)
DESCRIPTION:
URL:https://srce-slovenije.si/dogodek/razredni-nastop-prof-nadja-drakslar-petrac/
LOCATION:Glasbena šola Litija – Šmartno
CATEGORIES:Glasba,Glasbeni dogodek
ATTACH;FMTTYPE=image/png:https://srce-slovenije.si/wp-content/uploads/2024/09/prenos.png
ORGANIZER;CN="Glasbena %C5%A1ola Litija - %C5%A0martno":MAILTO:ravnateljica@gslitijasmartno.si
END:VEVENT
BEGIN:VEVENT
DTSTART;TZID=Europe/Ljubljana:20251222T173000
DTEND;TZID=Europe/Ljubljana:20251222T183000
DTSTAMP:20260422T212001
CREATED:20251201T074356Z
LAST-MODIFIED:20251201T074356Z
UID:33440-1766424600-1766428200@srce-slovenije.si
SUMMARY:Krajši lutkovni predstavi “Sovica Oka” in “Bi se gnetli na teh saneh”
DESCRIPTION: 
URL:https://srce-slovenije.si/dogodek/krajsi-lutkovni-predstavi-sovica-oka-in-bi-se-gnetli-na-teh-saneh/
LOCATION:Kulturni dom Šmartno pri Litiji\, Za povrtmi 4\, Šmartno pri Litiji\, 1275\, Slovenija
CATEGORIES:Dogodek za družine,Lutkovna predstava
ORGANIZER;CN="Ob%C4%8Dina %C5%A0martno pri Litiji":MAILTO:info@smartno-litija.si
END:VEVENT
BEGIN:VEVENT
DTSTART;TZID=Europe/Ljubljana:20251222T170000
DTEND;TZID=Europe/Ljubljana:20251222T180000
DTSTAMP:20260422T212001
CREATED:20251126T133918Z
LAST-MODIFIED:20251126T133918Z
UID:33187-1766422800-1766426400@srce-slovenije.si
SUMMARY:Razredni nastop (prof. Ana Šimenc Kugler)
DESCRIPTION:
URL:https://srce-slovenije.si/dogodek/razredni-nastop-prof-ana-simenc-kugler/
LOCATION:Glasbena šola Litija – Šmartno
CATEGORIES:Glasba,Glasbeni dogodek
ATTACH;FMTTYPE=image/png:https://srce-slovenije.si/wp-content/uploads/2024/09/prenos.png
ORGANIZER;CN="Glasbena %C5%A1ola Litija - %C5%A0martno":MAILTO:ravnateljica@gslitijasmartno.si
END:VEVENT
BEGIN:VEVENT
DTSTART;TZID=Europe/Ljubljana:20251222T160000
DTEND;TZID=Europe/Ljubljana:20251222T170000
DTSTAMP:20260422T212001
CREATED:20251126T133759Z
LAST-MODIFIED:20251126T133759Z
UID:33185-1766419200-1766422800@srce-slovenije.si
SUMMARY:Razredni nastop (prof. Uroš Hribar)
DESCRIPTION:
URL:https://srce-slovenije.si/dogodek/razredni-nastop-prof-uros-hribar/
LOCATION:Glasbena šola Litija – Šmartno
CATEGORIES:Glasba,Glasbeni dogodek
ATTACH;FMTTYPE=image/png:https://srce-slovenije.si/wp-content/uploads/2024/09/prenos.png
ORGANIZER;CN="Glasbena %C5%A1ola Litija - %C5%A0martno":MAILTO:ravnateljica@gslitijasmartno.si
END:VEVENT
BEGIN:VEVENT
DTSTART;TZID=Europe/Ljubljana:20251221T160000
DTEND;TZID=Europe/Ljubljana:20251221T183000
DTSTAMP:20260422T212001
CREATED:20251128T115845Z
LAST-MODIFIED:20251128T115845Z
UID:33282-1766332800-1766341800@srce-slovenije.si
SUMMARY:Zimska produkcija plesnega kluba Šinšin
DESCRIPTION:
URL:https://srce-slovenije.si/dogodek/zimska-produkcija-plesnega-kluba-sinsin-3/
LOCATION:Velika dvorana
CATEGORIES:Dogodek,Plesna predstava
END:VEVENT
BEGIN:VEVENT
DTSTART;TZID=Europe/Ljubljana:20251221T150000
DTEND;TZID=Europe/Ljubljana:20251221T180000
DTSTAMP:20260422T212001
CREATED:20251130T081148Z
LAST-MODIFIED:20251201T070831Z
UID:33374-1766329200-1766340000@srce-slovenije.si
SUMMARY:Adventno popoldne na gradu Bogenšperk
DESCRIPTION:Glasbeno popoldne  z Otom Pestnerjem in Tonijem Povšetom.
URL:https://srce-slovenije.si/dogodek/adventno-popoldne-na-gradu-bogensperk/
LOCATION:Grad Bogenšperk\, Bogenšperk 5\, Šmartno pri Litiji\, 1275\, Slovenija
CATEGORIES:Glasba,Glasbeni dogodek,Koncert
ATTACH;FMTTYPE=image/jpeg:https://srce-slovenije.si/wp-content/uploads/2025/11/bogensperk.jpg
END:VEVENT
BEGIN:VEVENT
DTSTART;TZID=Europe/Ljubljana:20251220T110000
DTEND;TZID=Europe/Ljubljana:20251220T130000
DTSTAMP:20260422T212001
CREATED:20251126T134454Z
LAST-MODIFIED:20251126T134454Z
UID:33191-1766228400-1766235600@srce-slovenije.si
SUMMARY:BOŽIČKI NA KOLESIH
DESCRIPTION:
URL:https://srce-slovenije.si/dogodek/bozicki-na-kolesih-2/
LOCATION:Parkirišče LIDL Litija\, Ježa 2d\, Litija\, 1270\, Slovenia
CATEGORIES:Dogodek,Dogodek na prostem,Dogodek za družine
ATTACH;FMTTYPE=image/jpeg:https://srce-slovenije.si/wp-content/uploads/2025/11/579213868_1464872745642870_2047964585077201704_n.jpg
END:VEVENT
BEGIN:VEVENT
DTSTART;TZID=Europe/Ljubljana:20251219T190000
DTEND;TZID=Europe/Ljubljana:20251219T200000
DTSTAMP:20260422T212001
CREATED:20251130T130137Z
LAST-MODIFIED:20251130T130137Z
UID:33402-1766170800-1766174400@srce-slovenije.si
SUMMARY:Praznični pub kviz
DESCRIPTION:
URL:https://srce-slovenije.si/dogodek/praznicni-pub-kviz/
LOCATION:Kulturni dom Šmartno pri Litiji\, Za povrtmi 4\, Šmartno pri Litiji\, 1275\, Slovenija
CATEGORIES:Delavnica,Delavnice,Dogodek,Pogovor
ORGANIZER;CN="Ob%C4%8Dina %C5%A0martno pri Litiji":MAILTO:info@smartno-litija.si
END:VEVENT
BEGIN:VEVENT
DTSTART;TZID=Europe/Ljubljana:20251219T183000
DTEND;TZID=Europe/Ljubljana:20251219T203000
DTSTAMP:20260422T212001
CREATED:20250930T070222Z
LAST-MODIFIED:20250930T070222Z
UID:32406-1766169000-1766176200@srce-slovenije.si
SUMMARY:Dih kot orodje za mir in ravnovesje
DESCRIPTION:
URL:https://srce-slovenije.si/dogodek/dih-kot-orodje-za-mir-in-ravnovesje-2/
LOCATION:Zdravilni gaj Tunjice
CATEGORIES:Dogodek,Meditacija
ORGANIZER;CN="Zdravilni gaj Tunjice":MAILTO:zdravilnigaj@gmail.com
END:VEVENT
BEGIN:VEVENT
DTSTART;TZID=Europe/Ljubljana:20251219T170000
DTEND;TZID=Europe/Ljubljana:20251219T183000
DTSTAMP:20260422T212001
CREATED:20251201T073648Z
LAST-MODIFIED:20251201T073648Z
UID:33433-1766163600-1766169000@srce-slovenije.si
SUMMARY:Pripelji starša v vrtec
DESCRIPTION:
URL:https://srce-slovenije.si/dogodek/pripelji-starsa-v-vrtec-3/
LOCATION:Igrišče Vrtca Ciciban\, Šmartno pri Litiji
CATEGORIES:Dogodek za družine
END:VEVENT
BEGIN:VEVENT
DTSTART;TZID=Europe/Ljubljana:20251218T180000
DTEND;TZID=Europe/Ljubljana:20251218T193000
DTSTAMP:20260422T212001
CREATED:20251130T125612Z
LAST-MODIFIED:20251130T125730Z
UID:33400-1766080800-1766086200@srce-slovenije.si
SUMMARY:Komedija “šminka in sekirca”
DESCRIPTION:
URL:https://srce-slovenije.si/dogodek/komedija-sminka-in-sekirca/
LOCATION:Kulturni dom Šmartno pri Litiji\, Za povrtmi 4\, Šmartno pri Litiji\, 1275\, Slovenija
CATEGORIES:Gledališče,Gledališka predstava,Predstava,Prireditve,STAND-UP
ORGANIZER;CN="Ob%C4%8Dina %C5%A0martno pri Litiji":MAILTO:info@smartno-litija.si
END:VEVENT
BEGIN:VEVENT
DTSTART;TZID=Europe/Ljubljana:20251218T180000
DTEND;TZID=Europe/Ljubljana:20251218T190000
DTSTAMP:20260422T212001
CREATED:20251126T133700Z
LAST-MODIFIED:20251126T133700Z
UID:33183-1766080800-1766084400@srce-slovenije.si
SUMMARY:Razredni nastop (prof. Nina Rupnik)
DESCRIPTION:
URL:https://srce-slovenije.si/dogodek/razredni-nastop-prof-nina-rupnik/
LOCATION:Glasbena šola Litija – Šmartno
CATEGORIES:Glasba,Glasbeni dogodek
ORGANIZER;CN="Glasbena %C5%A1ola Litija - %C5%A0martno":MAILTO:ravnateljica@gslitijasmartno.si
END:VEVENT
BEGIN:VEVENT
DTSTART;TZID=Europe/Ljubljana:20251218T170000
DTEND;TZID=Europe/Ljubljana:20251218T180000
DTSTAMP:20260422T212001
CREATED:20251128T115338Z
LAST-MODIFIED:20251128T115338Z
UID:33279-1766077200-1766080800@srce-slovenije.si
SUMMARY:Maščobe\, olja in oreščki za zdravje
DESCRIPTION:
URL:https://srce-slovenije.si/dogodek/mascobe-olja-in-orescki-za-zdravje/
LOCATION:Samostan Mekinje\, Galerija MS
CATEGORIES:Dogodek,Izobraževanje
END:VEVENT
BEGIN:VEVENT
DTSTART;TZID=Europe/Ljubljana:20251218T170000
DTEND;TZID=Europe/Ljubljana:20251218T180000
DTSTAMP:20260422T212001
CREATED:20251126T133604Z
LAST-MODIFIED:20251126T133604Z
UID:33181-1766077200-1766080800@srce-slovenije.si
SUMMARY:Razredni nastop flavtistov (prof. Mira Kranjec)
DESCRIPTION:
URL:https://srce-slovenije.si/dogodek/razredni-nastop-flavtistov-prof-mira-kranjec/
LOCATION:Glasbena šola Litija – Šmartno
CATEGORIES:Glasba,Glasbeni dogodek
ORGANIZER;CN="Glasbena %C5%A1ola Litija - %C5%A0martno":MAILTO:ravnateljica@gslitijasmartno.si
END:VEVENT
BEGIN:VEVENT
DTSTART;TZID=Europe/Ljubljana:20251217T180000
DTEND;TZID=Europe/Ljubljana:20251217T200000
DTSTAMP:20260422T212001
CREATED:20251126T133453Z
LAST-MODIFIED:20251126T133453Z
UID:33178-1765994400-1766001600@srce-slovenije.si
SUMMARY:Božično-novoletni koncert
DESCRIPTION:
URL:https://srce-slovenije.si/dogodek/bozicno-novoletni-koncert-2/
LOCATION:Športna dvorana Gimnazije Litija\, Bevkova ul. 1c\, 1270 Litija\, Litija\, 1270\, Slovenia
CATEGORIES:Glasba,Glasbeni dogodek
ATTACH;FMTTYPE=image/png:https://srce-slovenije.si/wp-content/uploads/2024/09/prenos.png
ORGANIZER;CN="Glasbena %C5%A1ola Litija - %C5%A0martno":MAILTO:ravnateljica@gslitijasmartno.si
END:VEVENT
BEGIN:VEVENT
DTSTART;TZID=Europe/Ljubljana:20251217T180000
DTEND;TZID=Europe/Ljubljana:20251217T190000
DTSTAMP:20260422T212001
CREATED:20251119T124214Z
LAST-MODIFIED:20251119T124214Z
UID:33127-1765994400-1765998000@srce-slovenije.si
SUMMARY:Maistrov večer: dr. Breda Kolar Sluga: Maistrova vloga pri organizaciji likovnega življenja v Mariboru
DESCRIPTION:Rojstna hiša Rudolfa Maistra\, Šutna 23\, Kamnik
URL:https://srce-slovenije.si/dogodek/maistrov-vecer-dr-breda-kolar-sluga-maistrova-vloga-pri-organizaciji-likovnega-zivljenja-v-mariboru/
LOCATION:Rojstna hiša Rudolfa Maistra\, Šutna 23\, Kamnik
CATEGORIES:Dogodek,Predavanje,Prireditve
END:VEVENT
BEGIN:VEVENT
DTSTART;TZID=Europe/Ljubljana:20251217T170000
DTEND;TZID=Europe/Ljubljana:20251217T183000
DTSTAMP:20260422T212001
CREATED:20251128T115219Z
LAST-MODIFIED:20251128T115219Z
UID:33276-1765990800-1765996200@srce-slovenije.si
SUMMARY:Božično novoletni koncert otroškega pevskega zbora\, komornih skupin in plesnega oddelka
DESCRIPTION:
URL:https://srce-slovenije.si/dogodek/bozicno-novoletni-koncert-otroskega-pevskega-zbora-komornih-skupin-in-plesnega-oddelka-2/
LOCATION:Velika dvorana
CATEGORIES:Dogodek
END:VEVENT
BEGIN:VEVENT
DTSTART;TZID=Europe/Ljubljana:20251216T180000
DTEND;TZID=Europe/Ljubljana:20251216T200000
DTSTAMP:20260422T212001
CREATED:20251119T100638Z
LAST-MODIFIED:20251119T125320Z
UID:33077-1765908000-1765915200@srce-slovenije.si
SUMMARY:ODPRTJE RAZSTAVE BOŽIČNEGA KRUHA – POPRTNIKA
DESCRIPTION:
URL:https://srce-slovenije.si/dogodek/odprtje-razstave-bozicnega-kruha-poprtnika-2/
LOCATION:Mestni muzej  Litija
CATEGORIES:Dogodek,Razstava
ATTACH;FMTTYPE=image/png:https://srce-slovenije.si/wp-content/uploads/2025/11/logo-lezeci_CAROBNA-LITIJA-2025_za-temno-podlago-scaled.png
END:VEVENT
BEGIN:VEVENT
DTSTART;TZID=Europe/Ljubljana:20251215T173000
DTEND;TZID=Europe/Ljubljana:20251215T183000
DTSTAMP:20260422T212001
CREATED:20251201T074119Z
LAST-MODIFIED:20251201T074119Z
UID:33438-1765819800-1765823400@srce-slovenije.si
SUMMARY:Predbožična pravljična urica s pravljičarko Melito iz Vrtca Ciciban
DESCRIPTION:
URL:https://srce-slovenije.si/dogodek/predbozicna-pravljicna-urica-s-pravljicarko-melito-iz-vrtca-ciciban/
LOCATION:Kulturni dom Šmartno\, Šmartno pri Litiji
CATEGORIES:Dogodek za družine
END:VEVENT
BEGIN:VEVENT
DTSTART;TZID=Europe/Ljubljana:20251213T180000
DTEND;TZID=Europe/Ljubljana:20251213T190000
DTSTAMP:20260422T212001
CREATED:20251128T112836Z
LAST-MODIFIED:20251128T112836Z
UID:33273-1765648800-1765652400@srce-slovenije.si
SUMMARY:Zvočna kopel
DESCRIPTION:
URL:https://srce-slovenije.si/dogodek/zvocna-kopel-2/
LOCATION:Samostan Mekinje\, Mansarda MS
CATEGORIES:Delavnica,Delavnice,Dogodek
END:VEVENT
BEGIN:VEVENT
DTSTART;TZID=Europe/Ljubljana:20251213T130000
DTEND;TZID=Europe/Ljubljana:20251213T140000
DTSTAMP:20260422T212001
CREATED:20251128T112701Z
LAST-MODIFIED:20251128T112701Z
UID:33270-1765630800-1765634400@srce-slovenije.si
SUMMARY:Alica in čarobno novoletno kraljestvo
DESCRIPTION:
URL:https://srce-slovenije.si/dogodek/alica-in-carobno-novoletno-kraljestvo/
LOCATION:Velika dvorana
CATEGORIES:Dogodek
END:VEVENT
BEGIN:VEVENT
DTSTART;TZID=Europe/Ljubljana:20251213T100000
DTEND;TZID=Europe/Ljubljana:20251213T120000
DTSTAMP:20260422T212001
CREATED:20251128T112529Z
LAST-MODIFIED:20251128T112529Z
UID:33268-1765620000-1765627200@srce-slovenije.si
SUMMARY:Delavnica socialnega povezovanja
DESCRIPTION:
URL:https://srce-slovenije.si/dogodek/delavnica-socialnega-povezovanja/
LOCATION:Samostan Mekinje\, Mansarda MS
CATEGORIES:Delavnica,Delavnice,Dogodek
END:VEVENT
BEGIN:VEVENT
DTSTART;TZID=Europe/Ljubljana:20251212T190000
DTEND;TZID=Europe/Ljubljana:20251212T210000
DTSTAMP:20260422T212001
CREATED:20251119T131403Z
LAST-MODIFIED:20251119T131403Z
UID:33144-1765566000-1765573200@srce-slovenije.si
SUMMARY:Večer s popotnikom Zvonetom Šerugo
DESCRIPTION:
URL:https://srce-slovenije.si/dogodek/vecer-s-popotnikom-zvonetom-serugo/
LOCATION:PGD Prevoje\, Gasilska ulica 3\,\, Lukovica\, 1225\, Slovenia
CATEGORIES:Dogodek,Pogovor
END:VEVENT
END:VCALENDAR