BEGIN:VCALENDAR
VERSION:2.0
PRODID:-// - ECPv6.15.20//NONSGML v1.0//EN
CALSCALE:GREGORIAN
METHOD:PUBLISH
X-ORIGINAL-URL:https://srce-slovenije.si
X-WR-CALDESC:Dogodki za 
REFRESH-INTERVAL;VALUE=DURATION:PT1H
X-Robots-Tag:noindex
X-PUBLISHED-TTL:PT1H
BEGIN:VTIMEZONE
TZID:Europe/Ljubljana
BEGIN:DAYLIGHT
TZOFFSETFROM:+0100
TZOFFSETTO:+0200
TZNAME:CEST
DTSTART:20250330T010000
END:DAYLIGHT
BEGIN:STANDARD
TZOFFSETFROM:+0200
TZOFFSETTO:+0100
TZNAME:CET
DTSTART:20251026T010000
END:STANDARD
BEGIN:DAYLIGHT
TZOFFSETFROM:+0100
TZOFFSETTO:+0200
TZNAME:CEST
DTSTART:20260329T010000
END:DAYLIGHT
BEGIN:STANDARD
TZOFFSETFROM:+0200
TZOFFSETTO:+0100
TZNAME:CET
DTSTART:20261025T010000
END:STANDARD
BEGIN:DAYLIGHT
TZOFFSETFROM:+0100
TZOFFSETTO:+0200
TZNAME:CEST
DTSTART:20270328T010000
END:DAYLIGHT
BEGIN:STANDARD
TZOFFSETFROM:+0200
TZOFFSETTO:+0100
TZNAME:CET
DTSTART:20271031T010000
END:STANDARD
END:VTIMEZONE
BEGIN:VEVENT
DTSTART;TZID=Europe/Ljubljana:20260226T170000
DTEND;TZID=Europe/Ljubljana:20260226T180000
DTSTAMP:20260421T173127
CREATED:20251024T100950Z
LAST-MODIFIED:20260204T124022Z
UID:32757-1772125200-1772128800@srce-slovenije.si
SUMMARY:Pravljične urice
DESCRIPTION:Brezplačno za člane Knjižnice Franceta Balantiča Kamnik.
URL:https://srce-slovenije.si/dogodek/pravljicne-urice-4/
LOCATION:Arboretum Volčji Potok\, Volčji Potok 3\, 1235 Radomlje
CATEGORIES:Dogodek,Razstava,Razstave,Več tedenska prireditev
ORGANIZER;CN="Arboretum Vol%C4%8Dji Potok":MAILTO:prireditve@arboretum.si
END:VEVENT
BEGIN:VEVENT
DTSTART;TZID=Europe/Ljubljana:20260225T190000
DTEND;TZID=Europe/Ljubljana:20260225T210000
DTSTAMP:20260421T173127
CREATED:20260127T084119Z
LAST-MODIFIED:20260127T084119Z
UID:33833-1772046000-1772053200@srce-slovenije.si
SUMMARY:MESEC KULTURE - Literarni večer: Žan Papič in Mateja Kralj
DESCRIPTION:
URL:https://srce-slovenije.si/dogodek/mesec-kulture-literarni-vecer-zan-papic-in-mateja-kralj/
LOCATION:Knjižnica Litija\, Parmova 9\, Litija\, 1270
CATEGORIES:Dogodek,Pogovor
ORGANIZER;CN="Knji%C5%BEnica Litija":MAILTO:knjiznica.litija@gmail.com
END:VEVENT
BEGIN:VEVENT
DTSTART;TZID=Europe/Ljubljana:20260224T180000
DTEND;TZID=Europe/Ljubljana:20260224T190000
DTSTAMP:20260421T173127
CREATED:20260127T083821Z
LAST-MODIFIED:20260127T083821Z
UID:33831-1771956000-1771959600@srce-slovenije.si
SUMMARY:Ura pravljic v Litiji
DESCRIPTION:
URL:https://srce-slovenije.si/dogodek/ura-pravljic-v-litiji-6/
LOCATION:Knjižnica Litija\, Parmova 9\, Litija\, 1270
CATEGORIES:Ura pravljic
ORGANIZER;CN="Knji%C5%BEnica Litija":MAILTO:knjiznica.litija@gmail.com
END:VEVENT
BEGIN:VEVENT
DTSTART;TZID=Europe/Ljubljana:20260224T180000
DTEND;TZID=Europe/Ljubljana:20260224T190000
DTSTAMP:20260421T173127
CREATED:20260122T091512Z
LAST-MODIFIED:20260122T091551Z
UID:33736-1771956000-1771959600@srce-slovenije.si
SUMMARY:Odprtje gostujoče razstave o Jošku Tischlerju in pogovor
DESCRIPTION:Medobčinski muzej Kamnik\, Alenka Juvan\, 01 8317 662\, info@muzejkamnik.si\, https://www.muzej-kamnik-on.net/
URL:https://srce-slovenije.si/dogodek/odprtje-gostujoce-razstave-o-josku-tischlerju-in-pogovor/
LOCATION:Rojstna hiša Rudolfa Maistra
CATEGORIES:Dogodek,Razstava,Razstave
END:VEVENT
BEGIN:VEVENT
DTSTART;TZID=Europe/Ljubljana:20260224T170000
DTEND;TZID=Europe/Ljubljana:20260224T210000
DTSTAMP:20260421T173127
CREATED:20260122T092959Z
LAST-MODIFIED:20260122T093036Z
UID:33746-1771952400-1771966800@srce-slovenije.si
SUMMARY:Delavnica: SEO delavnica za tvojo spletno stran: vsak dan od 24.2.- 26.2.2026\, med 17:00 - 21:00 uro
DESCRIPTION:Zadruga KIKštarter\, Nika Škrjanec\, 040 665 343\, info@kikstarter.si\,\nhttps://kikstarter.si/event/delavnica-seo-delavnica-za-tvojo-spletno-stran/\n\n\n\n\n\n\nCena: brezplačno za člane KIKštarterja\, 50 € za nečlane\nhttps://docs.google.com/forms/d/e/1FAIpQLSfl0LOGuDGA3b2RU-ZMrQP5n4E-vlLuTYjftGYdglgR1BQ0-w/viewform\n\n\n\nIzvaja se vsak dan od 24.2.- 26.2.2026\, med 17:00 – 21:00 uro
URL:https://srce-slovenije.si/dogodek/delavnica-seo-delavnica-za-tvojo-spletno-stran-vsak-dan-od-24-2-26-2-2026-1700-2100/
LOCATION:KIKštarter
CATEGORIES:Delavnica,Delavnice,Dogodek
END:VEVENT
BEGIN:VEVENT
DTSTART;TZID=Europe/Ljubljana:20260223T180000
DTEND;TZID=Europe/Ljubljana:20260223T190000
DTSTAMP:20260421T173127
CREATED:20260127T083725Z
LAST-MODIFIED:20260127T083725Z
UID:33829-1771869600-1771873200@srce-slovenije.si
SUMMARY:Ura pravljic na Vačah
DESCRIPTION:
URL:https://srce-slovenije.si/dogodek/ura-pravljic-na-vacah-4/
LOCATION:Knjižnica Vače\, Vače 28a\, Litija\, 1270
CATEGORIES:Dogodek,Ura pravljic
ORGANIZER;CN="Knji%C5%BEnica Litija":MAILTO:knjiznica.litija@gmail.com
END:VEVENT
BEGIN:VEVENT
DTSTART;TZID=Europe/Ljubljana:20260222T163000
DTEND;TZID=Europe/Ljubljana:20260222T180000
DTSTAMP:20260421T173127
CREATED:20260204T121440Z
LAST-MODIFIED:20260204T121440Z
UID:33964-1771777800-1771783200@srce-slovenije.si
SUMMARY:Sprostitev ob zvoku šamanskega bobna
DESCRIPTION:Prispevek za udeležbo: 25 €\, obvezne prijave na: 051 336 033\n\n\n\n\n\n\nSamostan Mekinje\, 031 392 158\, info@samostanmekinje.si\, www.samostanmekinje.si
URL:https://srce-slovenije.si/dogodek/sprostitev-ob-zvoku-samanskega-bobna/
LOCATION:Samostan Mekinje\, Polčeva pot 2\, Kamnik
CATEGORIES:Delavnice,Dogodek
ATTACH;FMTTYPE=image/jpeg:https://srce-slovenije.si/wp-content/uploads/2026/02/l_1227410_1.jpg
END:VEVENT
BEGIN:VEVENT
DTSTART;TZID=Europe/Ljubljana:20260222T100000
DTEND;TZID=Europe/Ljubljana:20260222T123000
DTSTAMP:20260421T173127
CREATED:20250929T115337Z
LAST-MODIFIED:20260204T123930Z
UID:32394-1771754400-1771763400@srce-slovenije.si
SUMMARY:Ujeti trenutki v naravi: Čuječa fotografija za starejše
DESCRIPTION:
URL:https://srce-slovenije.si/dogodek/ujeti-trenutki-v-naravi-cujeca-fotografija-za-starejse-2/
LOCATION:Arboretum Volčji Potok
CATEGORIES:Delavnica,Dogodek na prostem
ATTACH;FMTTYPE=image/jpeg:https://srce-slovenije.si/wp-content/uploads/2025/09/Ujeti-trenutki-v-naravi-Cujeca-fotografija-za-starejse.jpg
ORGANIZER;CN="Arboretum Vol%C4%8Dji Potok":MAILTO:prireditve@arboretum.si
END:VEVENT
BEGIN:VEVENT
DTSTART;TZID=Europe/Ljubljana:20260221T173000
DTEND;TZID=Europe/Ljubljana:20260221T183000
DTSTAMP:20260421T173127
CREATED:20260204T121230Z
LAST-MODIFIED:20260204T121230Z
UID:33959-1771695000-1771698600@srce-slovenije.si
SUMMARY:Zvočna kopel s kristalnimi skledami
DESCRIPTION:Samostan Mekinje\, 031 392 158\, info@samostanmekinje.si\, www.samostanmekinje.si\n\n\n\n\n\n\nPrispevek za udeležbo: 30 €\, obvezne prijave na: lunara.terapije@gmail.com
URL:https://srce-slovenije.si/dogodek/zvocna-kopel-s-kristalnimi-skledami/
LOCATION:Samostan Mekinje
CATEGORIES:Dogodek,Meditacija
ATTACH;FMTTYPE=image/jpeg:https://srce-slovenije.si/wp-content/uploads/2026/02/l_1227403_1.jpg
END:VEVENT
BEGIN:VEVENT
DTSTART;TZID=Europe/Ljubljana:20260221T110000
DTEND;TZID=Europe/Ljubljana:20260221T170000
DTSTAMP:20260421T173127
CREATED:20260122T094023Z
LAST-MODIFIED:20260122T094023Z
UID:33754-1771671600-1771693200@srce-slovenije.si
SUMMARY:Hokejski turnir
DESCRIPTION:TD Tuhinjska dolina\, Domen Lorber\, 051 304 284\, info@td-tuhinjskadolina.si\, https://www.td-tuhinjskadolina.si/\n\n\n\n  \n\n\n\nNa hokejski turnir je obvezna prijava ekip.
URL:https://srce-slovenije.si/dogodek/hokejski-turnir/
LOCATION:Prireditveni šotor\, Snovik
CATEGORIES:Dogodek,Športni dogodek
END:VEVENT
BEGIN:VEVENT
DTSTART;VALUE=DATE:20260221
DTEND;VALUE=DATE:20260222
DTSTAMP:20260421T173127
CREATED:20260120T134811Z
LAST-MODIFIED:20260120T134811Z
UID:33705-1771632000-1771718399@srce-slovenije.si
SUMMARY:Počitniške otroške delavnice
DESCRIPTION:Velika planina d.o.o.\, 040 251 771\, info@velikaplanina.si; www.velikaplanina.si
URL:https://srce-slovenije.si/dogodek/pocitniske-otroske-delavnice/
LOCATION:Okrepčevalnica Skodla\, Velika planina
CATEGORIES:Dogodek,Dogodek na prostem,Dogodek za družine
END:VEVENT
BEGIN:VEVENT
DTSTART;TZID=Europe/Ljubljana:20260220T180000
DTEND;TZID=Europe/Ljubljana:20260220T200000
DTSTAMP:20260421T173127
CREATED:20260127T101102Z
LAST-MODIFIED:20260127T101102Z
UID:33861-1771610400-1771617600@srce-slovenije.si
SUMMARY:Redni mesečni šahovski turnir
DESCRIPTION:
URL:https://srce-slovenije.si/dogodek/redni-mesecni-sahovski-turnir/
LOCATION:Brunarica ŠTD Rafolče
CATEGORIES:Dogodek
ORGANIZER;CN="%C5%A0D %C4%8Crni graben":MAILTO:viktorjemec1@gmail.com
END:VEVENT
BEGIN:VEVENT
DTSTART;TZID=Europe/Ljubljana:20260220T180000
DTEND;TZID=Europe/Ljubljana:20260220T190000
DTSTAMP:20260421T173127
CREATED:20260122T091412Z
LAST-MODIFIED:20260122T091412Z
UID:33734-1771610400-1771614000@srce-slovenije.si
SUMMARY:Odprtje razstave Jona Derganca
DESCRIPTION:Medobčinski muzej Kamnik\, Saša Bučan\, 01 8317 662\, info@muzejkamnik.si\, https://www.muzej-kamnik-on.net/
URL:https://srce-slovenije.si/dogodek/odprtje-razstave-jona-derganca/
LOCATION:Galerija Pogled
CATEGORIES:Dogodek,Razstava,Razstave
END:VEVENT
BEGIN:VEVENT
DTSTART;TZID=Europe/Ljubljana:20260219T190000
DTEND;TZID=Europe/Ljubljana:20260219T210000
DTSTAMP:20260421T173127
CREATED:20260127T080007Z
LAST-MODIFIED:20260127T080007Z
UID:33817-1771527600-1771534800@srce-slovenije.si
SUMMARY:Komedija Razočarana gospodinja pri seksologu
DESCRIPTION:
URL:https://srce-slovenije.si/dogodek/komedija-razocarana-gospodinja-pri-seksologu/
LOCATION:Kulturni dom Šmartno pri Litiji\, Za povrtmi 4\, Šmartno pri Litiji\, 1275\, Slovenija
CATEGORIES:Dogodek,Predstava
ATTACH;FMTTYPE=image/jpeg:https://srce-slovenije.si/wp-content/uploads/2026/01/Razocarana-gospodinja.jpg
ORGANIZER;CN="Javni zavod Bogen%C5%A1perk":MAILTO:info@bogensperk.si
END:VEVENT
BEGIN:VEVENT
DTSTART;TZID=Europe/Ljubljana:20260219T170000
DTEND;TZID=Europe/Ljubljana:20260219T190000
DTSTAMP:20260421T173127
CREATED:20260204T120551Z
LAST-MODIFIED:20260204T120551Z
UID:33954-1771520400-1771527600@srce-slovenije.si
SUMMARY:Koreninice za zdravje
DESCRIPTION:Prispevek za udeležbo: 10 €\, obvezne prijave na: info@samostanmekinje.si\n\n\n\n\n\n\nSamostan Mekinje\, 031 392 158\, info@samostanmekinje.si\, www.samostanmekinje.si
URL:https://srce-slovenije.si/dogodek/koreninice-za-zdravje/
LOCATION:Samostan Mekinje
CATEGORIES:Delavnica,Delavnice,Dogodek,Kulinarični dogodek
ATTACH;FMTTYPE=image/jpeg:https://srce-slovenije.si/wp-content/uploads/2026/02/l_1227145_1.jpg
END:VEVENT
BEGIN:VEVENT
DTSTART;TZID=Europe/Ljubljana:20260218T190000
DTEND;TZID=Europe/Ljubljana:20260218T200000
DTSTAMP:20260421T173127
CREATED:20260127T083621Z
LAST-MODIFIED:20260127T083621Z
UID:33827-1771441200-1771444800@srce-slovenije.si
SUMMARY:Potopisno predavanje: Franci Horvat\, Sejšeli
DESCRIPTION:
URL:https://srce-slovenije.si/dogodek/potopisno-predavanje-franci-horvat-sejseli/
LOCATION:Knjižnica Litija\, Parmova 9\, Litija\, 1270
CATEGORIES:Dogodek,Potopisno predavanje
ATTACH;FMTTYPE=image/png:https://srce-slovenije.si/wp-content/uploads/2025/10/knjiznica-litija.png
ORGANIZER;CN="Knji%C5%BEnica Litija":MAILTO:knjiznica.litija@gmail.com
END:VEVENT
BEGIN:VEVENT
DTSTART;TZID=Europe/Ljubljana:20260217T190000
DTEND;TZID=Europe/Ljubljana:20260217T200000
DTSTAMP:20260421T173127
CREATED:20260127T083524Z
LAST-MODIFIED:20260127T083524Z
UID:33825-1771354800-1771358400@srce-slovenije.si
SUMMARY:MESEC KULTURE - Približevanja: Jože Vidic\, slovenski baritonist
DESCRIPTION:
URL:https://srce-slovenije.si/dogodek/mesec-kulture-priblizevanja-joze-vidic-slovenski-baritonist/
LOCATION:Kulturni center Litija
CATEGORIES:Dogodek,Pogovor
ATTACH;FMTTYPE=image/png:https://srce-slovenije.si/wp-content/uploads/2025/10/knjiznica-litija.png
ORGANIZER;CN="Knji%C5%BEnica Litija":MAILTO:knjiznica.litija@gmail.com
END:VEVENT
BEGIN:VEVENT
DTSTART;TZID=Europe/Ljubljana:20260217T090000
DTEND;TZID=Europe/Ljubljana:20260219T150000
DTSTAMP:20260421T173127
CREATED:20260127T101425Z
LAST-MODIFIED:20260127T101425Z
UID:33864-1771318800-1771513200@srce-slovenije.si
SUMMARY:Kreativa in tehnika za mlade
DESCRIPTION:Tridnevne brezplačne delavnice za učence in dijake od 12 do 18 let. \n\n\n\nObvezna prijava prek obrazca: https://forms.gle/PJufjW91uEpiQvhZ6
URL:https://srce-slovenije.si/dogodek/kreativa-in-tehnika-za-mlade/
LOCATION:Lesarius 7-čutni muzej\, Velika Preska 1\, Polšnik\, 1272\, Slovenija
CATEGORIES:Delavnice
ATTACH;FMTTYPE=image/jpeg:https://srce-slovenije.si/wp-content/uploads/2026/01/Center-zunanje-ureditve.jpg
ORGANIZER;CN="Muzej Lesarius":MAILTO:info@lesarius.si
END:VEVENT
BEGIN:VEVENT
DTSTART;TZID=Europe/Ljubljana:20260216T090000
DTEND;TZID=Europe/Ljubljana:20260216T150000
DTSTAMP:20260421T173127
CREATED:20260122T092626Z
LAST-MODIFIED:20260122T092626Z
UID:33742-1771232400-1771254000@srce-slovenije.si
SUMMARY:Kreativa in tehnika za mlade - glasba (16.2.-20.2.2026\, 9:00 - 15:00)
DESCRIPTION:Zadruga KIKštarter\, Nika Škrjanec\, 040 665 343\, info@kikstarter.si\,\nhttps://kikstarter.si/event/kreativa-in-tehnika-za-mlade-glasba-%f0%9f%8e%b5%f0%9f%8e%b6%f0%9f%8e%bc/\n\n\n\nhttps://docs.google.com/forms/d/e/1FAIpQLSdTNnQ8022nazGeRFVluG3SFjYSWY8OS1ikuRE7871XYr5zvA/viewform?usp=send_form \nPotekala bo vsak dan od 16.2.-20.2.2026\, med 9:00 – 15:00 uro.
URL:https://srce-slovenije.si/dogodek/kreativa-in-tehnika-za-mlade-glasba-16-2-20-2-2026-900-1500/
LOCATION:KIKštarter in Center Lesarius
CATEGORIES:Dogodek
END:VEVENT
BEGIN:VEVENT
DTSTART;TZID=Europe/Ljubljana:20260214T190000
DTEND;TZID=Europe/Ljubljana:20260214T210000
DTSTAMP:20260421T173127
CREATED:20260204T120352Z
LAST-MODIFIED:20260204T120352Z
UID:33949-1771095600-1771102800@srce-slovenije.si
SUMMARY:Ekskluzivni koncert Gregorja Ravnika
DESCRIPTION:Dom Kulture Kamnik\, 041 360 399\, info@domkulture.si\, www.domkulture.si
URL:https://srce-slovenije.si/dogodek/ekskluzivni-koncert-gregorja-ravnika/
LOCATION:Dom kulture Kamnik\, Velika dvorana
CATEGORIES:Dogodek,Koncert
ATTACH;FMTTYPE=image/jpeg:https://srce-slovenije.si/wp-content/uploads/2026/02/image_1761033304274.jpg
END:VEVENT
BEGIN:VEVENT
DTSTART;TZID=Europe/Ljubljana:20260214T140000
DTEND;TZID=Europe/Ljubljana:20260214T170000
DTSTAMP:20260421T173127
CREATED:20260122T093705Z
LAST-MODIFIED:20260122T093705Z
UID:33752-1771077600-1771088400@srce-slovenije.si
SUMMARY:Pustovanje
DESCRIPTION:TD Tuhinjska dolina\, Domen Lorber\, 051 304 284\, info@td-tuhinjskadolina.si\, https://www.td-tuhinjskadolina.si/\n\n\n\n 
URL:https://srce-slovenije.si/dogodek/pustovanje-2/
LOCATION:Prireditveni šotor\, Snovik
CATEGORIES:Dogodek,Prireditve,Pustni karneval
END:VEVENT
BEGIN:VEVENT
DTSTART;TZID=Europe/Ljubljana:20260214T140000
DTEND;TZID=Europe/Ljubljana:20260214T160000
DTSTAMP:20260421T173127
CREATED:20260127T100846Z
LAST-MODIFIED:20260127T100846Z
UID:33857-1771077600-1771084800@srce-slovenije.si
SUMMARY:Pustna povorka Šentvid pri Lukovici
DESCRIPTION:
URL:https://srce-slovenije.si/dogodek/pustna-povorka-sentvid-pri-lukovici/
LOCATION:Šentvid pri Lukovici
CATEGORIES:Pustni karneval
ATTACH;FMTTYPE=image/jpeg:https://srce-slovenije.si/wp-content/uploads/2026/01/pust-lukovica.jpg
ORGANIZER;CN="Turisti%C4%8Dno dru%C5%A1tvo sv. Vid":MAILTO:tdsv.vid@gmail.com
END:VEVENT
BEGIN:VEVENT
DTSTART;TZID=Europe/Ljubljana:20260214T100000
DTEND;TZID=Europe/Ljubljana:20260214T120000
DTSTAMP:20260421T173127
CREATED:20260127T075735Z
LAST-MODIFIED:20260127T075735Z
UID:33813-1771063200-1771070400@srce-slovenije.si
SUMMARY:Šmarski pust
DESCRIPTION:
URL:https://srce-slovenije.si/dogodek/smarski-pust-3/
LOCATION:Staretov trg\, Šmartno pri Litiji
CATEGORIES:Dogodek,Dogodek na prostem,Dogodek za družine,Pustni karneval
ATTACH;FMTTYPE=image/jpeg:https://srce-slovenije.si/wp-content/uploads/2026/01/pust.jpg
ORGANIZER;CN="Javni zavod Bogen%C5%A1perk":MAILTO:info@bogensperk.si
END:VEVENT
BEGIN:VEVENT
DTSTART;TZID=Europe/Ljubljana:20260214T090000
DTEND;TZID=Europe/Ljubljana:20260214T130000
DTSTAMP:20260421T173127
CREATED:20260204T120148Z
LAST-MODIFIED:20260204T120148Z
UID:33944-1771059600-1771074000@srce-slovenije.si
SUMMARY:Delavnica somatike in dihanja
DESCRIPTION:Samostan Mekinje\, 031 392 158\, info@samostanmekinje.si\, www.samostanmekinje.si\n\n\n\n\n\n\nPrispevek za udeležbo: 60 €\, obvezne prijave na: zavestno.gibanje@gmail.com ali 031 730 451
URL:https://srce-slovenije.si/dogodek/delavnica-somatike-in-dihanja/
LOCATION:Samostan Mekinje
CATEGORIES:Dogodek
ATTACH;FMTTYPE=image/jpeg:https://srce-slovenije.si/wp-content/uploads/2026/02/24697_s2_aaeb09c8b693f2fa5f7d10e09a3cdb82921d2221.jpg
END:VEVENT
BEGIN:VEVENT
DTSTART;VALUE=DATE:20260214
DTEND;VALUE=DATE:20260215
DTSTAMP:20260421T173127
CREATED:20260120T134705Z
LAST-MODIFIED:20260120T134705Z
UID:33700-1771027200-1771113599@srce-slovenije.si
SUMMARY:Pustne otroške delavnice
DESCRIPTION:Velika planina d.o.o.\, 040 251 771\, info@velikaplanina.si; www.velikaplanina.si
URL:https://srce-slovenije.si/dogodek/pustne-otroske-delavnice/
LOCATION:Okrepčevalnica Skodla\, Velika planina
CATEGORIES:Dogodek,Dogodek na prostem,Dogodek za družine
END:VEVENT
BEGIN:VEVENT
DTSTART;TZID=Europe/Ljubljana:20260212T183000
DTEND;TZID=Europe/Ljubljana:20260212T193000
DTSTAMP:20260421T173127
CREATED:20260127T094003Z
LAST-MODIFIED:20260127T094003Z
UID:33849-1770921000-1770924600@srce-slovenije.si
SUMMARY:Interni nastop
DESCRIPTION:
URL:https://srce-slovenije.si/dogodek/interni-nastop-2/
LOCATION:Glasbena šola Litija – Šmartno
CATEGORIES:Glasba
ATTACH;FMTTYPE=image/png:https://srce-slovenije.si/wp-content/uploads/2024/09/prenos.png
ORGANIZER;CN="Glasbena %C5%A1ola Litija - %C5%A0martno":MAILTO:ravnateljica@gslitijasmartno.si
END:VEVENT
BEGIN:VEVENT
DTSTART;TZID=Europe/Ljubljana:20260212T180000
DTEND;TZID=Europe/Ljubljana:20260212T190000
DTSTAMP:20260421T173127
CREATED:20260127T083331Z
LAST-MODIFIED:20260127T083331Z
UID:33823-1770919200-1770922800@srce-slovenije.si
SUMMARY:Ura pravljic v Šmartnem
DESCRIPTION:
URL:https://srce-slovenije.si/dogodek/ura-pravljic-v-smartnem-2/
LOCATION:Knjižnica Šmartno pri Litiji\, Staretov trg 12\, Šmartno pri Litiji\, 1275\, Slovenija
CATEGORIES:Ura pravljic
ATTACH;FMTTYPE=image/png:https://srce-slovenije.si/wp-content/uploads/2025/10/knjiznica-litija.png
ORGANIZER;CN="Knji%C5%BEnica Litija":MAILTO:knjiznica.litija@gmail.com
END:VEVENT
BEGIN:VEVENT
DTSTART;TZID=Europe/Ljubljana:20260212T170000
DTEND;TZID=Europe/Ljubljana:20260212T190000
DTSTAMP:20260421T173127
CREATED:20260127T093900Z
LAST-MODIFIED:20260127T094716Z
UID:33847-1770915600-1770922800@srce-slovenije.si
SUMMARY:Nastop saksofonistov iz razreda prof. Ane Šimenc Kugler
DESCRIPTION:
URL:https://srce-slovenije.si/dogodek/nastop-saksofonistov-iz-razreda-prof-ane-simenc-kugler/
LOCATION:Glasbena šola Litija – Šmartno
CATEGORIES:Glasba
ATTACH;FMTTYPE=image/png:https://srce-slovenije.si/wp-content/uploads/2024/09/prenos.png
ORGANIZER;CN="Glasbena %C5%A1ola Litija - %C5%A0martno":MAILTO:ravnateljica@gslitijasmartno.si
END:VEVENT
BEGIN:VEVENT
DTSTART;TZID=Europe/Ljubljana:20260211T183000
DTEND;TZID=Europe/Ljubljana:20260211T200000
DTSTAMP:20260421T173127
CREATED:20260127T093801Z
LAST-MODIFIED:20260127T093801Z
UID:33845-1770834600-1770840000@srce-slovenije.si
SUMMARY:Nastop tekmovalcev
DESCRIPTION:
URL:https://srce-slovenije.si/dogodek/nastop-tekmovalcev-3/
LOCATION:Glasbena šola Litija – Šmartno
CATEGORIES:Glasba
ATTACH;FMTTYPE=image/png:https://srce-slovenije.si/wp-content/uploads/2024/09/prenos.png
ORGANIZER;CN="Glasbena %C5%A1ola Litija - %C5%A0martno":MAILTO:ravnateljica@gslitijasmartno.si
END:VEVENT
BEGIN:VEVENT
DTSTART;TZID=Europe/Ljubljana:20260211T180000
DTEND;TZID=Europe/Ljubljana:20260211T200000
DTSTAMP:20260421T173127
CREATED:20260127T073106Z
LAST-MODIFIED:20260127T073106Z
UID:33805-1770832800-1770840000@srce-slovenije.si
SUMMARY:Komedija Šminka in sekirca
DESCRIPTION:
URL:https://srce-slovenije.si/dogodek/komedija-sminka-in-sekirca-2/
LOCATION:Kulturni dom Šmartno pri Litiji\, Za povrtmi 4\, Šmartno pri Litiji\, 1275\, Slovenija
CATEGORIES:Predstava
ATTACH;FMTTYPE=image/jpeg:https://srce-slovenije.si/wp-content/uploads/2026/01/sminka.jpg
END:VEVENT
END:VCALENDAR